BEGIN:VCALENDAR
VERSION:2.0
PRODID:-//aspekte SALZBURG - ECPv6.15.14//NONSGML v1.0//EN
CALSCALE:GREGORIAN
METHOD:PUBLISH
X-WR-CALNAME:aspekte SALZBURG
X-ORIGINAL-URL:https://aspekte-salzburg.com
X-WR-CALDESC:Veranstaltungen für aspekte SALZBURG
REFRESH-INTERVAL;VALUE=DURATION:PT1H
X-Robots-Tag:noindex
X-PUBLISHED-TTL:PT1H
BEGIN:VTIMEZONE
TZID:Europe/Paris
BEGIN:DAYLIGHT
TZOFFSETFROM:+0100
TZOFFSETTO:+0200
TZNAME:CEST
DTSTART:19930328T010000
END:DAYLIGHT
BEGIN:STANDARD
TZOFFSETFROM:+0200
TZOFFSETTO:+0100
TZNAME:CET
DTSTART:19930926T010000
END:STANDARD
BEGIN:DAYLIGHT
TZOFFSETFROM:+0100
TZOFFSETTO:+0200
TZNAME:CEST
DTSTART:19940327T010000
END:DAYLIGHT
BEGIN:STANDARD
TZOFFSETFROM:+0200
TZOFFSETTO:+0100
TZNAME:CET
DTSTART:19940925T010000
END:STANDARD
BEGIN:DAYLIGHT
TZOFFSETFROM:+0100
TZOFFSETTO:+0200
TZNAME:CEST
DTSTART:19950326T010000
END:DAYLIGHT
BEGIN:STANDARD
TZOFFSETFROM:+0200
TZOFFSETTO:+0100
TZNAME:CET
DTSTART:19950924T010000
END:STANDARD
END:VTIMEZONE
BEGIN:VEVENT
DTSTART;TZID=Europe/Paris:19940531T200000
DTEND;TZID=Europe/Paris:19940531T200000
DTSTAMP:20260421T120020
CREATED:20190805T103321Z
LAST-MODIFIED:20251120T160628Z
UID:1997-770414400-770414400@aspekte-salzburg.com
SUMMARY:Konzert IV
DESCRIPTION:Programm\nRobert Pascal\, Chant d’aubes (1991)\nfür Violoncello und digitale Echtzeitanlage \nJérôme Dorival\, Le son des choses dans les ténèbres (1991)\nfür Sopran\, Bassklarinette und Violoncello \nPierre Alain Jaffrennou\, Suite pour violoncelle et bande (1986) \nJames Giroudon/Jean François Estager\, Pierre d’ombre (1991)\nfür Sopran\, Violoncello\, Klarinette\, Klavier\, digitale Anlage und Tonband \n  \nMitwirkende\nEnsemble Grame Lyon\nLaure Florentin\, Sopran\nManuel Schweizer\, Klavier\nPatrick Gabard\, Violoncello\nJérôme Dorival\, Klarinette\nJean François Estager\, Keyboards
URL:https://aspekte-salzburg.com/konzert/konzert-iv-11/
LOCATION:Großes Studio\, Universität Mozarteum\, Mirabellplatz 1\, Salzburg\, 5020
END:VEVENT
END:VCALENDAR