BEGIN:VCALENDAR
VERSION:2.0
PRODID:-//aspekte SALZBURG - ECPv6.15.14//NONSGML v1.0//EN
CALSCALE:GREGORIAN
METHOD:PUBLISH
X-WR-CALNAME:aspekte SALZBURG
X-ORIGINAL-URL:https://aspekte-salzburg.com
X-WR-CALDESC:Veranstaltungen für aspekte SALZBURG
REFRESH-INTERVAL;VALUE=DURATION:PT1H
X-Robots-Tag:noindex
X-PUBLISHED-TTL:PT1H
BEGIN:VTIMEZONE
TZID:Europe/Paris
BEGIN:DAYLIGHT
TZOFFSETFROM:+0100
TZOFFSETTO:+0200
TZNAME:CEST
DTSTART:19890326T010000
END:DAYLIGHT
BEGIN:STANDARD
TZOFFSETFROM:+0200
TZOFFSETTO:+0100
TZNAME:CET
DTSTART:19890924T010000
END:STANDARD
BEGIN:DAYLIGHT
TZOFFSETFROM:+0100
TZOFFSETTO:+0200
TZNAME:CEST
DTSTART:19900325T010000
END:DAYLIGHT
BEGIN:STANDARD
TZOFFSETFROM:+0200
TZOFFSETTO:+0100
TZNAME:CET
DTSTART:19900930T010000
END:STANDARD
BEGIN:DAYLIGHT
TZOFFSETFROM:+0100
TZOFFSETTO:+0200
TZNAME:CEST
DTSTART:19910331T010000
END:DAYLIGHT
BEGIN:STANDARD
TZOFFSETFROM:+0200
TZOFFSETTO:+0100
TZNAME:CET
DTSTART:19910929T010000
END:STANDARD
END:VTIMEZONE
BEGIN:VEVENT
DTSTART;TZID=Europe/Paris:19900611T220000
DTEND;TZID=Europe/Paris:19900611T220000
DTSTAMP:20260421T120846
CREATED:20190809T061443Z
LAST-MODIFIED:20251120T161050Z
UID:2119-645141600-645141600@aspekte-salzburg.com
SUMMARY:Konzert IV
DESCRIPTION:Programm\nLuna Alcalay\, Ich bin in Sehnsucht eingehüllt (1984)\nSzenische Reflexionen zu Liebesgedichten von Selma Meerbaum-Eisinger\nI. Prolog (Information)\nII. Notize 1 (Das Bildnis des Mädchens)\nIII. Notize 2 (Der Gedichtband)\nIV. Rote Nelken (Das Gedicht)\nV. Epilog (Feststellung) \n  \nMitwirkende\nK&K Experimentalstudio\nGunda König\, Rezitation\nDieter Kaufmann\, Regie \nChristina Ascher\, Mezzosopran\nAnnette Sachs\, Clavichord\nKlaus Karlbauer\, Bühnenbild \nTonbandaufnahmen\nEnsemble Zeitsignale\nVicky Hall\, Sopran\nChristiane Hoßfeld\, Flöte\nWolfgang Florey\, Violoncello\nalicja Mounk\, Leitung
URL:https://aspekte-salzburg.com/konzert/konzert-iv-15/
LOCATION:Künstlerhaus\, Hellbrunner Str. 3\, Salzburg\, 5020
END:VEVENT
END:VCALENDAR