BEGIN:VCALENDAR
VERSION:2.0
PRODID:-//aspekte SALZBURG - ECPv6.15.14//NONSGML v1.0//EN
CALSCALE:GREGORIAN
METHOD:PUBLISH
X-WR-CALNAME:aspekte SALZBURG
X-ORIGINAL-URL:https://aspekte-salzburg.com
X-WR-CALDESC:Veranstaltungen für aspekte SALZBURG
REFRESH-INTERVAL;VALUE=DURATION:PT1H
X-Robots-Tag:noindex
X-PUBLISHED-TTL:PT1H
BEGIN:VTIMEZONE
TZID:Europe/Paris
BEGIN:DAYLIGHT
TZOFFSETFROM:+0100
TZOFFSETTO:+0200
TZNAME:CEST
DTSTART:20030330T010000
END:DAYLIGHT
BEGIN:STANDARD
TZOFFSETFROM:+0200
TZOFFSETTO:+0100
TZNAME:CET
DTSTART:20031026T010000
END:STANDARD
BEGIN:DAYLIGHT
TZOFFSETFROM:+0100
TZOFFSETTO:+0200
TZNAME:CEST
DTSTART:20040328T010000
END:DAYLIGHT
BEGIN:STANDARD
TZOFFSETFROM:+0200
TZOFFSETTO:+0100
TZNAME:CET
DTSTART:20041031T010000
END:STANDARD
BEGIN:DAYLIGHT
TZOFFSETFROM:+0100
TZOFFSETTO:+0200
TZNAME:CEST
DTSTART:20050327T010000
END:DAYLIGHT
BEGIN:STANDARD
TZOFFSETFROM:+0200
TZOFFSETTO:+0100
TZNAME:CET
DTSTART:20051030T010000
END:STANDARD
END:VTIMEZONE
BEGIN:VEVENT
DTSTART;TZID=Europe/Paris:20040227T210000
DTEND;TZID=Europe/Paris:20040227T210000
DTSTAMP:20260421T115837
CREATED:20190724T113607Z
LAST-MODIFIED:20251120T155922Z
UID:1760-1077915600-1077915600@aspekte-salzburg.com
SUMMARY:Konzert IV
DESCRIPTION:Programm\nBenna\nMorning\, noon and night\nTanztheater in 7 Szenen \nScene 1. The Guard (De Ghede)\nScene 2. The Worker\nScene 3. Rebellion\nScene 4. The Cook\nScene 5. De Benna\nScene 6. Worship\nScene 7. Jab Jab \n  \nMitwirkende\nShurel Reynolds & Co\nMusik und Tanz
URL:https://aspekte-salzburg.com/konzert/konzert-iv-2/
LOCATION:SEAD\, Schallmoser Hauptstr. 48\, Salzburg\, 5020
END:VEVENT
END:VCALENDAR