BEGIN:VCALENDAR
VERSION:2.0
PRODID:-//aspekte SALZBURG - ECPv6.15.14//NONSGML v1.0//EN
CALSCALE:GREGORIAN
METHOD:PUBLISH
X-WR-CALNAME:aspekte SALZBURG
X-ORIGINAL-URL:https://aspekte-salzburg.com
X-WR-CALDESC:Veranstaltungen für aspekte SALZBURG
REFRESH-INTERVAL;VALUE=DURATION:PT1H
X-Robots-Tag:noindex
X-PUBLISHED-TTL:PT1H
BEGIN:VTIMEZONE
TZID:Europe/Paris
BEGIN:DAYLIGHT
TZOFFSETFROM:+0100
TZOFFSETTO:+0200
TZNAME:CEST
DTSTART:19790401T010000
END:DAYLIGHT
BEGIN:STANDARD
TZOFFSETFROM:+0200
TZOFFSETTO:+0100
TZNAME:CET
DTSTART:19790930T010000
END:STANDARD
BEGIN:DAYLIGHT
TZOFFSETFROM:+0100
TZOFFSETTO:+0200
TZNAME:CEST
DTSTART:19800406T010000
END:DAYLIGHT
BEGIN:STANDARD
TZOFFSETFROM:+0200
TZOFFSETTO:+0100
TZNAME:CET
DTSTART:19800928T010000
END:STANDARD
BEGIN:DAYLIGHT
TZOFFSETFROM:+0100
TZOFFSETTO:+0200
TZNAME:CEST
DTSTART:19810329T010000
END:DAYLIGHT
BEGIN:STANDARD
TZOFFSETFROM:+0200
TZOFFSETTO:+0100
TZNAME:CET
DTSTART:19810927T010000
END:STANDARD
END:VTIMEZONE
BEGIN:VEVENT
DTSTART;TZID=Europe/Paris:19800606T190000
DTEND;TZID=Europe/Paris:19800606T190000
DTSTAMP:20260421T105926
CREATED:20190827T101037Z
LAST-MODIFIED:20251120T152553Z
UID:2383-329166000-329166000@aspekte-salzburg.com
SUMMARY:Konzert IV
DESCRIPTION:Programm\nSvend Nielsen\, Chamber Cantata (1975)\nfür Sopran\, Schlagzeug\, Flöte\, Gitarre\, Violine\, Cello\, Klarinette\, Elektro-Orgel und Tonband \nAxel Borup-Joergensen\, O Bäume Lebens (1976)\nnach Rainer Maria Rilke \nPelle Gudmundsen-Holmgreen\, Passacaglia (1977)\nfür indische Tablas und Kammer-Ensemble \nPer Noergard\, Seadrift (1977)\nnach Walt Whitman \nKarl Aage Rasmussen\, A Ballad of Game and Dream (1974) \n  \nMitwirkende\nThe Elsinore Players\nKarl Aage Rasmussen\, Leitung\nKjeld Mardahl\, Flöte\nElisabeth Sigurdsson\, Klarinette\nHans Stengaard\, Violine/Viola\nLars Geisler\, Cello\nErik Kaltoft\, Tasteninstrumente\nErling Moeldrup\, Gitarre\nEinar Nielsen\, Schlagzeug\nBodil Gümoes\, Solist
URL:https://aspekte-salzburg.com/konzert/konzert-iv-24/
LOCATION:ORF Publikumsstudio\, Nonntaler Hauptstr. 49\, Salzburg\, 5020
END:VEVENT
END:VCALENDAR