BEGIN:VCALENDAR
VERSION:2.0
PRODID:-//aspekte SALZBURG - ECPv6.15.14//NONSGML v1.0//EN
CALSCALE:GREGORIAN
METHOD:PUBLISH
X-WR-CALNAME:aspekte SALZBURG
X-ORIGINAL-URL:https://aspekte-salzburg.com
X-WR-CALDESC:Veranstaltungen für aspekte SALZBURG
REFRESH-INTERVAL;VALUE=DURATION:PT1H
X-Robots-Tag:noindex
X-PUBLISHED-TTL:PT1H
BEGIN:VTIMEZONE
TZID:Europe/Paris
BEGIN:DAYLIGHT
TZOFFSETFROM:+0100
TZOFFSETTO:+0200
TZNAME:CEST
DTSTART:19760328T000000
END:DAYLIGHT
BEGIN:STANDARD
TZOFFSETFROM:+0200
TZOFFSETTO:+0100
TZNAME:CET
DTSTART:19760925T230000
END:STANDARD
BEGIN:DAYLIGHT
TZOFFSETFROM:+0100
TZOFFSETTO:+0200
TZNAME:CEST
DTSTART:19770403T010000
END:DAYLIGHT
BEGIN:STANDARD
TZOFFSETFROM:+0200
TZOFFSETTO:+0100
TZNAME:CET
DTSTART:19770925T010000
END:STANDARD
BEGIN:DAYLIGHT
TZOFFSETFROM:+0100
TZOFFSETTO:+0200
TZNAME:CEST
DTSTART:19780402T010000
END:DAYLIGHT
BEGIN:STANDARD
TZOFFSETFROM:+0200
TZOFFSETTO:+0100
TZNAME:CET
DTSTART:19781001T010000
END:STANDARD
END:VTIMEZONE
BEGIN:VEVENT
DTSTART;TZID=Europe/Paris:19770521T190000
DTEND;TZID=Europe/Paris:19770521T190000
DTSTAMP:20260421T121735
CREATED:20191118T125857Z
LAST-MODIFIED:20251120T152334Z
UID:2538-233089200-233089200@aspekte-salzburg.com
SUMMARY:Konzert IV
DESCRIPTION:Programm\nPräsentation Gruppe Oeldorf (Köln) \n  \nJoachim KRIST\, Violin-Cello \n  \nPeter EÖTVÖS\, Intimus \nfür Cello und Bassbariton \n  \nMessias MAIGUASHCA\, Oeldorf 8 \nfür 4 Instrumente und 4-Kanaltonband \n  \nMitwirkende\nGruppe Oeldorf (Köln) \nJ. Krist\, Violine \nG. Schumacher\, Violoncello \nM. Maiguashca\, Klangregie \nR. Reiß (Köln)\,Bassbariton \nF. Tornai\, Klarinette \n 
URL:https://aspekte-salzburg.com/konzert/konzert-iv-26/
LOCATION:Petersbrunnhof\, Erzabt-Klotz-Str. 22\, Salzburg\, 5020
END:VEVENT
END:VCALENDAR