BEGIN:VCALENDAR
VERSION:2.0
PRODID:-//aspekte SALZBURG - ECPv6.15.14//NONSGML v1.0//EN
CALSCALE:GREGORIAN
METHOD:PUBLISH
X-WR-CALNAME:aspekte SALZBURG
X-ORIGINAL-URL:https://aspekte-salzburg.com
X-WR-CALDESC:Veranstaltungen für aspekte SALZBURG
REFRESH-INTERVAL;VALUE=DURATION:PT1H
X-Robots-Tag:noindex
X-PUBLISHED-TTL:PT1H
BEGIN:VTIMEZONE
TZID:Europe/Paris
BEGIN:DAYLIGHT
TZOFFSETFROM:+0100
TZOFFSETTO:+0200
TZNAME:CEST
DTSTART:19780402T010000
END:DAYLIGHT
BEGIN:STANDARD
TZOFFSETFROM:+0200
TZOFFSETTO:+0100
TZNAME:CET
DTSTART:19781001T010000
END:STANDARD
BEGIN:DAYLIGHT
TZOFFSETFROM:+0100
TZOFFSETTO:+0200
TZNAME:CEST
DTSTART:19790401T010000
END:DAYLIGHT
BEGIN:STANDARD
TZOFFSETFROM:+0200
TZOFFSETTO:+0100
TZNAME:CET
DTSTART:19790930T010000
END:STANDARD
BEGIN:DAYLIGHT
TZOFFSETFROM:+0100
TZOFFSETTO:+0200
TZNAME:CEST
DTSTART:19800406T010000
END:DAYLIGHT
BEGIN:STANDARD
TZOFFSETFROM:+0200
TZOFFSETTO:+0100
TZNAME:CET
DTSTART:19800928T010000
END:STANDARD
END:VTIMEZONE
BEGIN:VEVENT
DTSTART;TZID=Europe/Paris:19790616T190000
DTEND;TZID=Europe/Paris:19790616T190000
DTSTAMP:20260421T104654
CREATED:20191118T135838Z
LAST-MODIFIED:20251120T152615Z
UID:2560-298407600-298407600@aspekte-salzburg.com
SUMMARY:Konzert IV
DESCRIPTION:Programm\nAndor Losonczy\, Phonophobie \nFrancis Corcoran\, Triologues \nBerthold Paul\, Reflexionen (ein Meer voll Traurigkeit) \nHelmut Eder\, so-no-ro 2 \nKlaus Ager\, un dolce raggio di sole perduto \n  \nMitwirkende\nÖsterreichisches Ensembles für Neue Musik \nAndor Losonczy\, Klavier \nElisabeth Spang\, Flöte \nCarol Bauer\, Klarinette \nFerenc Tornai\, Klarinette und Baßklarinette \nMarkus Mann\, Fagott \nGenro Hara\, Posaune \nHeinz Malsy\, Schlagzeug \nAlexander Mullenbach\, Klavier \nLynn Blakesly\, Violine \nLucy Sulz\, Violine \nIrmgard Gahl\, Viola \nDankwart Gahl\, Violoncello \nWilfried Brandl\, Kontrabaß \nWolfgang Guttmann\, Gitarre \nKlaus Ager\, Leitung
URL:https://aspekte-salzburg.com/konzert/konzert-iv-27/
LOCATION:ORF Publikumsstudio\, Nonntaler Hauptstr. 49\, Salzburg\, 5020
END:VEVENT
END:VCALENDAR