BEGIN:VCALENDAR
VERSION:2.0
PRODID:-//aspekte SALZBURG - ECPv6.15.14//NONSGML v1.0//EN
CALSCALE:GREGORIAN
METHOD:PUBLISH
X-WR-CALNAME:aspekte SALZBURG
X-ORIGINAL-URL:https://aspekte-salzburg.com
X-WR-CALDESC:Veranstaltungen für aspekte SALZBURG
REFRESH-INTERVAL;VALUE=DURATION:PT1H
X-Robots-Tag:noindex
X-PUBLISHED-TTL:PT1H
BEGIN:VTIMEZONE
TZID:Europe/Paris
BEGIN:DAYLIGHT
TZOFFSETFROM:+0100
TZOFFSETTO:+0200
TZNAME:CEST
DTSTART:19850331T010000
END:DAYLIGHT
BEGIN:STANDARD
TZOFFSETFROM:+0200
TZOFFSETTO:+0100
TZNAME:CET
DTSTART:19850929T010000
END:STANDARD
BEGIN:DAYLIGHT
TZOFFSETFROM:+0100
TZOFFSETTO:+0200
TZNAME:CEST
DTSTART:19860330T010000
END:DAYLIGHT
BEGIN:STANDARD
TZOFFSETFROM:+0200
TZOFFSETTO:+0100
TZNAME:CET
DTSTART:19860928T010000
END:STANDARD
BEGIN:DAYLIGHT
TZOFFSETFROM:+0100
TZOFFSETTO:+0200
TZNAME:CEST
DTSTART:19870329T010000
END:DAYLIGHT
BEGIN:STANDARD
TZOFFSETFROM:+0200
TZOFFSETTO:+0100
TZNAME:CET
DTSTART:19870927T010000
END:STANDARD
END:VTIMEZONE
BEGIN:VEVENT
DTSTART;TZID=Europe/Paris:19860508T220000
DTEND;TZID=Europe/Paris:19860508T220000
DTSTAMP:20260421T104646
CREATED:20191118T145258Z
LAST-MODIFIED:20251120T161455Z
UID:2577-515973600-515973600@aspekte-salzburg.com
SUMMARY:Konzert IV
DESCRIPTION:Programm\nHerbert Grassl\, Klagelied\nfür Viola und computergen. Tonband \nMauricio Kagel\, Transicion I\nfür Tonband \nBernd Alois Zimmermann\, Tratto\nfür Tonband \nRobert Boyer\, Illusions I\nfür Violoncello und computergen. Tonband \nWilliam Albright\, Sphaera\nfür Klavier und computergen. Tonband \n  \nMitwirkende\nUrsula Kneihs Klavier \nClaudia Gabrielli\, Violoncello \nRobert Crow\, Viola \nKlaus Ager\, Klangregie \n 
URL:https://aspekte-salzburg.com/konzert/konzert-iv-28/
LOCATION:Künstlerhaus\, Hellbrunner Str. 3\, Salzburg\, 5020
END:VEVENT
END:VCALENDAR