BEGIN:VCALENDAR
VERSION:2.0
PRODID:-//aspekte SALZBURG - ECPv6.15.14//NONSGML v1.0//EN
CALSCALE:GREGORIAN
METHOD:PUBLISH
X-WR-CALNAME:aspekte SALZBURG
X-ORIGINAL-URL:https://aspekte-salzburg.com
X-WR-CALDESC:Veranstaltungen für aspekte SALZBURG
REFRESH-INTERVAL;VALUE=DURATION:PT1H
X-Robots-Tag:noindex
X-PUBLISHED-TTL:PT1H
BEGIN:VTIMEZONE
TZID:Europe/Paris
BEGIN:DAYLIGHT
TZOFFSETFROM:+0100
TZOFFSETTO:+0200
TZNAME:CEST
DTSTART:20090329T010000
END:DAYLIGHT
BEGIN:STANDARD
TZOFFSETFROM:+0200
TZOFFSETTO:+0100
TZNAME:CET
DTSTART:20091025T010000
END:STANDARD
BEGIN:DAYLIGHT
TZOFFSETFROM:+0100
TZOFFSETTO:+0200
TZNAME:CEST
DTSTART:20100328T010000
END:DAYLIGHT
BEGIN:STANDARD
TZOFFSETFROM:+0200
TZOFFSETTO:+0100
TZNAME:CET
DTSTART:20101031T010000
END:STANDARD
BEGIN:DAYLIGHT
TZOFFSETFROM:+0100
TZOFFSETTO:+0200
TZNAME:CEST
DTSTART:20110327T010000
END:DAYLIGHT
BEGIN:STANDARD
TZOFFSETFROM:+0200
TZOFFSETTO:+0100
TZNAME:CET
DTSTART:20111030T010000
END:STANDARD
END:VTIMEZONE
BEGIN:VEVENT
DTSTART;TZID=Europe/Paris:20100528T180000
DTEND;TZID=Europe/Paris:20100528T180000
DTSTAMP:20260421T104454
CREATED:20190718T081131Z
LAST-MODIFIED:20251120T155535Z
UID:1623-1275069600-1275069600@aspekte-salzburg.com
SUMMARY:Konzert IV | Eine Ton-Sprache oder Klang-Rede
DESCRIPTION:Programm\n  \nGerald Resch (*1975)\, Fünf Versuche nach Italo Calvino für Violine\, Violoncello und Klavier (2006) \nValentin Silvestrov (*1937)\, Postludium Nr. 3 für Violoncello  und Klavier (1981/82) \nSofia Gubaidulina (*1931)\, Zehn Präludien für Violoncello solo I-V (1974) \nWitold Lutoslawski (1913-1994)\, Subito für Violine und Klavier (1992) \nGerhard Wimberger (*1923)\, Quadrolog für Klaviertrio und Vibraphon\n(Uraufführung\, Auftragswerk der Aspekte Salzburg) \n  \nMitwirkende\n  \nduo :nota bene:\nEva Maria Steinschaden-Vavtar\, Violine\nAlexander Vavtar\, Klavier \nDetlef Mielke\, Violoncello\nRizumu Sugishita\, Vibraphon \n 
URL:https://aspekte-salzburg.com/konzert/konzert-iv-eine-ton-sprache-oder-klang-rede/
LOCATION:ARGEkultur Salzburg\, Ulrike-Gschwandtner-Straße 5\, Salzburg\, 5020\, Österreich
END:VEVENT
END:VCALENDAR