BEGIN:VCALENDAR
VERSION:2.0
PRODID:-//aspekte SALZBURG - ECPv6.15.14//NONSGML v1.0//EN
CALSCALE:GREGORIAN
METHOD:PUBLISH
X-WR-CALNAME:aspekte SALZBURG
X-ORIGINAL-URL:https://aspekte-salzburg.com
X-WR-CALDESC:Veranstaltungen für aspekte SALZBURG
REFRESH-INTERVAL;VALUE=DURATION:PT1H
X-Robots-Tag:noindex
X-PUBLISHED-TTL:PT1H
BEGIN:VTIMEZONE
TZID:Europe/Paris
BEGIN:DAYLIGHT
TZOFFSETFROM:+0100
TZOFFSETTO:+0200
TZNAME:CEST
DTSTART:20130331T010000
END:DAYLIGHT
BEGIN:STANDARD
TZOFFSETFROM:+0200
TZOFFSETTO:+0100
TZNAME:CET
DTSTART:20131027T010000
END:STANDARD
BEGIN:DAYLIGHT
TZOFFSETFROM:+0100
TZOFFSETTO:+0200
TZNAME:CEST
DTSTART:20140330T010000
END:DAYLIGHT
BEGIN:STANDARD
TZOFFSETFROM:+0200
TZOFFSETTO:+0100
TZNAME:CET
DTSTART:20141026T010000
END:STANDARD
BEGIN:DAYLIGHT
TZOFFSETFROM:+0100
TZOFFSETTO:+0200
TZNAME:CEST
DTSTART:20150329T010000
END:DAYLIGHT
BEGIN:STANDARD
TZOFFSETFROM:+0200
TZOFFSETTO:+0100
TZNAME:CET
DTSTART:20151025T010000
END:STANDARD
END:VTIMEZONE
BEGIN:VEVENT
DTSTART;TZID=Europe/Paris:20140515T210000
DTEND;TZID=Europe/Paris:20140515T210000
DTSTAMP:20260421T104819
CREATED:20190613T120910Z
LAST-MODIFIED:20251120T154550Z
UID:1301-1400187600-1400187600@aspekte-salzburg.com
SUMMARY:Konzert IV | ICE project part 2
DESCRIPTION:Programm\n\nVariables für Ensemble (2011) \nEuropäische Erstaufführung \n\n  \nGhostlight für Klavier (2013) \nEuropäische Erstaufführung \n\n  \nWarka Vase für Streichtrio mit Percussion (2014) \nUraufführung \n\n  \nThirteen Changes für Ensemble (1986) \n\n  \nVoz doz Ventos für Flöte\, Klarinette und Fagott (2014) \nUraufführung \n\n  \nOktett für Flöte\, Klarinette\, Fagott\, Schlagwerk\, Klavier\, Violine\, Viola und Cello (2014) \nUraufführung \n  \n  \nMitwirkende\nInternational Contemporary Ensemble (New York) \nMaria Stankova \nNathan Davis \nRick Burkhardt \nPauline Oliveros \nFelipe Lara \nAlexandra Karastoyanova-Hermentin \nOswald Sallaberger\, Leitung
URL:https://aspekte-salzburg.com/konzert/konzert-iv-ice-project-part-2/
LOCATION:republic\, Anton-Neumayr-Platz 2\, Salzburg\, 5020\, Österreich
CATEGORIES:Aspekte 2014
END:VEVENT
END:VCALENDAR