BEGIN:VCALENDAR
VERSION:2.0
PRODID:-//aspekte SALZBURG - ECPv6.15.14//NONSGML v1.0//EN
CALSCALE:GREGORIAN
METHOD:PUBLISH
X-WR-CALNAME:aspekte SALZBURG
X-ORIGINAL-URL:https://aspekte-salzburg.com
X-WR-CALDESC:Veranstaltungen für aspekte SALZBURG
REFRESH-INTERVAL;VALUE=DURATION:PT1H
X-Robots-Tag:noindex
X-PUBLISHED-TTL:PT1H
BEGIN:VTIMEZONE
TZID:Europe/Paris
BEGIN:DAYLIGHT
TZOFFSETFROM:+0100
TZOFFSETTO:+0200
TZNAME:CEST
DTSTART:19910331T010000
END:DAYLIGHT
BEGIN:STANDARD
TZOFFSETFROM:+0200
TZOFFSETTO:+0100
TZNAME:CET
DTSTART:19910929T010000
END:STANDARD
BEGIN:DAYLIGHT
TZOFFSETFROM:+0100
TZOFFSETTO:+0200
TZNAME:CEST
DTSTART:19920329T010000
END:DAYLIGHT
BEGIN:STANDARD
TZOFFSETFROM:+0200
TZOFFSETTO:+0100
TZNAME:CET
DTSTART:19920927T010000
END:STANDARD
BEGIN:DAYLIGHT
TZOFFSETFROM:+0100
TZOFFSETTO:+0200
TZNAME:CEST
DTSTART:19930328T010000
END:DAYLIGHT
BEGIN:STANDARD
TZOFFSETFROM:+0200
TZOFFSETTO:+0100
TZNAME:CET
DTSTART:19930926T010000
END:STANDARD
END:VTIMEZONE
BEGIN:VEVENT
DTSTART;TZID=Europe/Paris:19920527T220000
DTEND;TZID=Europe/Paris:19920527T220000
DTSTAMP:20260421T115858
CREATED:20190807T090216Z
LAST-MODIFIED:20251120T160851Z
UID:2061-707004000-707004000@aspekte-salzburg.com
SUMMARY:Konzert IX
DESCRIPTION:Programm\nManuel de Falla\, pour le tombeau de Paul Dukas (1935) \nFederico Mompou\, Música callada (2°Cuaderno\, 1962) \nLuis de Pablo\, A la memoria de Joaquin Turina (1982) \nAlfredo Aracil\, Ottavia sola (1986) \nAlfredo Aracil\, Calmo (1987) \nChristobal Halffter\, Cadencia \nManuel Balboa\, Intermezzo Op. 1 \nManuel Balboa\, intermedio y Danza Satánica \nDaniel Stefani\, Sonata 1990 \nDaniel Stefani\, Macumba \n  \nMitwirkende\nHumberto Quagliata\, Klavier
URL:https://aspekte-salzburg.com/konzert/konzert-ix-11/
LOCATION:Großes Studio\, Universität Mozarteum\, Mirabellplatz 1\, Salzburg\, 5020
END:VEVENT
END:VCALENDAR