BEGIN:VCALENDAR
VERSION:2.0
PRODID:-//aspekte SALZBURG - ECPv6.15.14//NONSGML v1.0//EN
CALSCALE:GREGORIAN
METHOD:PUBLISH
X-WR-CALNAME:aspekte SALZBURG
X-ORIGINAL-URL:https://aspekte-salzburg.com
X-WR-CALDESC:Veranstaltungen für aspekte SALZBURG
REFRESH-INTERVAL;VALUE=DURATION:PT1H
X-Robots-Tag:noindex
X-PUBLISHED-TTL:PT1H
BEGIN:VTIMEZONE
TZID:Europe/Paris
BEGIN:DAYLIGHT
TZOFFSETFROM:+0100
TZOFFSETTO:+0200
TZNAME:CEST
DTSTART:19900325T010000
END:DAYLIGHT
BEGIN:STANDARD
TZOFFSETFROM:+0200
TZOFFSETTO:+0100
TZNAME:CET
DTSTART:19900930T010000
END:STANDARD
BEGIN:DAYLIGHT
TZOFFSETFROM:+0100
TZOFFSETTO:+0200
TZNAME:CEST
DTSTART:19910331T010000
END:DAYLIGHT
BEGIN:STANDARD
TZOFFSETFROM:+0200
TZOFFSETTO:+0100
TZNAME:CET
DTSTART:19910929T010000
END:STANDARD
BEGIN:DAYLIGHT
TZOFFSETFROM:+0100
TZOFFSETTO:+0200
TZNAME:CEST
DTSTART:19920329T010000
END:DAYLIGHT
BEGIN:STANDARD
TZOFFSETFROM:+0200
TZOFFSETTO:+0100
TZNAME:CET
DTSTART:19920927T010000
END:STANDARD
END:VTIMEZONE
BEGIN:VEVENT
DTSTART;TZID=Europe/Paris:19910606T200000
DTEND;TZID=Europe/Paris:19910606T200000
DTSTAMP:20260421T104611
CREATED:20190808T091158Z
LAST-MODIFIED:20251120T160931Z
UID:2093-676238400-676238400@aspekte-salzburg.com
SUMMARY:Konzert IX
DESCRIPTION:Programm\nJohn Cage\, The Wonderful Widow of Eighteen Springs (1942) James Joyce\nfür Stimme und geschlossenes Klavier \nJohn Cage\, Nowth upon Nacht (1984) James Joyce\nfür Sopran und Klavier \nJohn Cage\, Suite für Toy Piano (1948)\nin five movements \nJohn Cage\, Composition for three voices (1934)\nfür drei oder mehr Instrumente \nChristian Wolff\, Dark as a Dungeon (1977)\nfür Klarinette \nEarle Brown\, from Folio (1952/53) \nJohn Cage\, Wishing Well (1986\, europ. Premiere)\nfür vier Sprecher\nText: Francisco Tanzer \nMorton Feldman\, The King of Denmark (1964)\nfür Schlagzeug \nJohn Cage\, Chorals (1978)\nfür Violine \nJohn Cage\, 4’33 for Clarinet (1952) \nJohn Cage\, Aria with Concert (1958)\nfür beliebige Stimme\, mit den Orchesterstimmen Klarinette und Violine von Concer (1952) \n  \nMitwirkende\nEnsemble Continuum\nJoel Sachs\, Leitung/Klavier \nNan Hughes\, Mezzosopran \nErik Charlston\, Schlagzeug \nDavid Krakauer\, Klainette \nMark Steinberg\, Violine \n 
URL:https://aspekte-salzburg.com/konzert/konzert-ix-12/
LOCATION:Großes Studio\, Universität Mozarteum\, Mirabellplatz 1\, Salzburg\, 5020
END:VEVENT
END:VCALENDAR