BEGIN:VCALENDAR
VERSION:2.0
PRODID:-//aspekte SALZBURG - ECPv6.15.14//NONSGML v1.0//EN
CALSCALE:GREGORIAN
METHOD:PUBLISH
X-WR-CALNAME:aspekte SALZBURG
X-ORIGINAL-URL:https://aspekte-salzburg.com
X-WR-CALDESC:Veranstaltungen für aspekte SALZBURG
REFRESH-INTERVAL;VALUE=DURATION:PT1H
X-Robots-Tag:noindex
X-PUBLISHED-TTL:PT1H
BEGIN:VTIMEZONE
TZID:Europe/Paris
BEGIN:DAYLIGHT
TZOFFSETFROM:+0100
TZOFFSETTO:+0200
TZNAME:CEST
DTSTART:19800406T010000
END:DAYLIGHT
BEGIN:STANDARD
TZOFFSETFROM:+0200
TZOFFSETTO:+0100
TZNAME:CET
DTSTART:19800928T010000
END:STANDARD
BEGIN:DAYLIGHT
TZOFFSETFROM:+0100
TZOFFSETTO:+0200
TZNAME:CEST
DTSTART:19810329T010000
END:DAYLIGHT
BEGIN:STANDARD
TZOFFSETFROM:+0200
TZOFFSETTO:+0100
TZNAME:CET
DTSTART:19810927T010000
END:STANDARD
BEGIN:DAYLIGHT
TZOFFSETFROM:+0100
TZOFFSETTO:+0200
TZNAME:CEST
DTSTART:19820328T010000
END:DAYLIGHT
BEGIN:STANDARD
TZOFFSETFROM:+0200
TZOFFSETTO:+0100
TZNAME:CET
DTSTART:19820926T010000
END:STANDARD
END:VTIMEZONE
BEGIN:VEVENT
DTSTART;TZID=Europe/Paris:19810621T201500
DTEND;TZID=Europe/Paris:19810621T201500
DTSTAMP:20260421T115919
CREATED:20190827T074241Z
LAST-MODIFIED:20251120T152800Z
UID:2370-362002500-362002500@aspekte-salzburg.com
SUMMARY:Konzert IX
DESCRIPTION:Programm\nFranz Liszt\, Ossa arida (1879)\nfür Männerchor und Orgel \nErik Satie\, Messe des Pauvres (1895)\nfür Sopran/Bass – Chor ad libitum und Orgel \nCharles Ives\, Psalm 90 (1922/23)\nfür Chor\, Orgel und Glocken \nFerruccio Busoni\, aus Doktor Faust: Ende des Vorspiels (1922)\nfür Soli\, Chor\, Orgel und Orchester \nEdgard Varèse\, Ecuatorial (1934\, revidierte Fassung 1961)\nfür Chor aus Bassstimmen\, 4 Trompeten\, 4 Posaunen\, Klavier\, Orgel\, 2 Ondes Martenot\, 6 Schlagzeuger \nJohn Cage\, Variations IV (1963)\nin einer Fassung für Sänger\, Orgel und Schlagzeug \n  \nMitwirkende\nSalzburger Studentenchor \nSalzburger Instrumentalensemble \nSchlagzeuggruppe des Orff-Instituts \nGottfried Holzer\, Orgel \nChris Merritt\, Tenor \nKlaus Wallprecht\, Bariton \nRupert Huber\, Leitung
URL:https://aspekte-salzburg.com/konzert/konzert-ix-21/
LOCATION:Franziskanerkirche\, Franziskanergasse 5\, Salzburg\, 5020
END:VEVENT
END:VCALENDAR