BEGIN:VCALENDAR
VERSION:2.0
PRODID:-//aspekte SALZBURG - ECPv6.15.14//NONSGML v1.0//EN
CALSCALE:GREGORIAN
METHOD:PUBLISH
X-WR-CALNAME:aspekte SALZBURG
X-ORIGINAL-URL:https://aspekte-salzburg.com
X-WR-CALDESC:Veranstaltungen für aspekte SALZBURG
REFRESH-INTERVAL;VALUE=DURATION:PT1H
X-Robots-Tag:noindex
X-PUBLISHED-TTL:PT1H
BEGIN:VTIMEZONE
TZID:Europe/Paris
BEGIN:DAYLIGHT
TZOFFSETFROM:+0100
TZOFFSETTO:+0200
TZNAME:CEST
DTSTART:20010325T010000
END:DAYLIGHT
BEGIN:STANDARD
TZOFFSETFROM:+0200
TZOFFSETTO:+0100
TZNAME:CET
DTSTART:20011028T010000
END:STANDARD
BEGIN:DAYLIGHT
TZOFFSETFROM:+0100
TZOFFSETTO:+0200
TZNAME:CEST
DTSTART:20020331T010000
END:DAYLIGHT
BEGIN:STANDARD
TZOFFSETFROM:+0200
TZOFFSETTO:+0100
TZNAME:CET
DTSTART:20021027T010000
END:STANDARD
BEGIN:DAYLIGHT
TZOFFSETFROM:+0100
TZOFFSETTO:+0200
TZNAME:CEST
DTSTART:20030330T010000
END:DAYLIGHT
BEGIN:STANDARD
TZOFFSETFROM:+0200
TZOFFSETTO:+0100
TZNAME:CET
DTSTART:20031026T010000
END:STANDARD
END:VTIMEZONE
BEGIN:VEVENT
DTSTART;TZID=Europe/Paris:20020303T190000
DTEND;TZID=Europe/Paris:20020303T190000
DTSTAMP:20260421T115729
CREATED:20190726T060240Z
LAST-MODIFIED:20251120T160030Z
UID:1796-1015182000-1015182000@aspekte-salzburg.com
SUMMARY:Konzert IX
DESCRIPTION:Programm\nJohn Cage\, Third Construction (1941) \nLeif Karlsson\, Tango (1995) \nIannis Xenakis\, Peaux (1979) \nHenrik Stirnberg\, Ursprung/Lichtungen (1993) \nSven-David Sandstöm\, Kroumata Pieces (1995) \n  \nMitwirkende\nKroumata Ensemble Stockholm\nAnders Loguin\nAnders Holdar\nLeif Karlsson\nUlrik Nilsson\nJohn Eriksson\nJohann Silvmark
URL:https://aspekte-salzburg.com/konzert/konzert-ix-3/
LOCATION:Großes Studio\, Universität Mozarteum\, Mirabellplatz 1\, Salzburg\, 5020
END:VEVENT
END:VCALENDAR