BEGIN:VCALENDAR
VERSION:2.0
PRODID:-//aspekte SALZBURG - ECPv6.15.14//NONSGML v1.0//EN
CALSCALE:GREGORIAN
METHOD:PUBLISH
X-WR-CALNAME:aspekte SALZBURG
X-ORIGINAL-URL:https://aspekte-salzburg.com
X-WR-CALDESC:Veranstaltungen für aspekte SALZBURG
REFRESH-INTERVAL;VALUE=DURATION:PT1H
X-Robots-Tag:noindex
X-PUBLISHED-TTL:PT1H
BEGIN:VTIMEZONE
TZID:Europe/Paris
BEGIN:DAYLIGHT
TZOFFSETFROM:+0100
TZOFFSETTO:+0200
TZNAME:CEST
DTSTART:19900325T010000
END:DAYLIGHT
BEGIN:STANDARD
TZOFFSETFROM:+0200
TZOFFSETTO:+0100
TZNAME:CET
DTSTART:19900930T010000
END:STANDARD
BEGIN:DAYLIGHT
TZOFFSETFROM:+0100
TZOFFSETTO:+0200
TZNAME:CEST
DTSTART:19910331T010000
END:DAYLIGHT
BEGIN:STANDARD
TZOFFSETFROM:+0200
TZOFFSETTO:+0100
TZNAME:CET
DTSTART:19910929T010000
END:STANDARD
BEGIN:DAYLIGHT
TZOFFSETFROM:+0100
TZOFFSETTO:+0200
TZNAME:CEST
DTSTART:19920329T010000
END:DAYLIGHT
BEGIN:STANDARD
TZOFFSETFROM:+0200
TZOFFSETTO:+0100
TZNAME:CET
DTSTART:19920927T010000
END:STANDARD
END:VTIMEZONE
BEGIN:VEVENT
DTSTART;TZID=Europe/Paris:19910604T200000
DTEND;TZID=Europe/Paris:19910604T200000
DTSTAMP:20260421T115836
CREATED:20190808T062944Z
LAST-MODIFIED:20251120T161010Z
UID:2085-676065600-676065600@aspekte-salzburg.com
SUMMARY:Konzert V
DESCRIPTION:Programm\nHenry Cowell\, Works for piano\nDeep Color (1938\, österr. Premiere)\nThe Fairy Answer (1929)\nFabric (1920)\nTiger (1928) \nJohn Cage\, Five Songs (1938) e.e.cummings\nlittle four paws\nlittle Christmas tree\nin Just-\nhis whist\nTumbling hair \nJohn Cage\, Sonata for Clarinet (1933)\nVivace\nLento\nVivace \nPhilip Corner\, VOX (1988)\ndie Version wurde für Continuum komponiert. Österr. Premiere \nJohn Cage\, Branches (1976) \nJohn Cage\, 5 (1988) \nJohn Cage\, Music Walk (1958) \nJohn Cage\, Five (1988) \nLou Harrison\, Varied Trio (1986\, europ. EA)\nGending\nBowl Bells\nElegy\nRondeau\nDance \n  \nMitwirkende\nEnsemble Continuum \nJoel Sachs\, Klavier/Leitung \nNan Hughes\, Mezzosopran \nErik Charlston\, Schlagzeug \nDavid Krakauer\, Klarinette \nMark Steinberg\, Violine \n 
URL:https://aspekte-salzburg.com/konzert/konzert-v-14/
LOCATION:Großes Studio\, Universität Mozarteum\, Mirabellplatz 1\, Salzburg\, 5020
END:VEVENT
END:VCALENDAR