BEGIN:VCALENDAR
VERSION:2.0
PRODID:-//aspekte SALZBURG - ECPv6.15.14//NONSGML v1.0//EN
CALSCALE:GREGORIAN
METHOD:PUBLISH
X-WR-CALNAME:aspekte SALZBURG
X-ORIGINAL-URL:https://aspekte-salzburg.com
X-WR-CALDESC:Veranstaltungen für aspekte SALZBURG
REFRESH-INTERVAL;VALUE=DURATION:PT1H
X-Robots-Tag:noindex
X-PUBLISHED-TTL:PT1H
BEGIN:VTIMEZONE
TZID:Europe/Paris
BEGIN:DAYLIGHT
TZOFFSETFROM:+0100
TZOFFSETTO:+0200
TZNAME:CEST
DTSTART:19880327T010000
END:DAYLIGHT
BEGIN:STANDARD
TZOFFSETFROM:+0200
TZOFFSETTO:+0100
TZNAME:CET
DTSTART:19880925T010000
END:STANDARD
BEGIN:DAYLIGHT
TZOFFSETFROM:+0100
TZOFFSETTO:+0200
TZNAME:CEST
DTSTART:19890326T010000
END:DAYLIGHT
BEGIN:STANDARD
TZOFFSETFROM:+0200
TZOFFSETTO:+0100
TZNAME:CET
DTSTART:19890924T010000
END:STANDARD
BEGIN:DAYLIGHT
TZOFFSETFROM:+0100
TZOFFSETTO:+0200
TZNAME:CEST
DTSTART:19900325T010000
END:DAYLIGHT
BEGIN:STANDARD
TZOFFSETFROM:+0200
TZOFFSETTO:+0100
TZNAME:CET
DTSTART:19900930T010000
END:STANDARD
END:VTIMEZONE
BEGIN:VEVENT
DTSTART;TZID=Europe/Paris:19890502T200000
DTEND;TZID=Europe/Paris:19890502T200000
DTSTAMP:20260421T105658
CREATED:20190812T125851Z
LAST-MODIFIED:20251120T161200Z
UID:2152-610142400-610142400@aspekte-salzburg.com
SUMMARY:Konzert V
DESCRIPTION:Programm\nGiulio Viozzi\, Suite variata\nfür Gitarre \nChristian Calon\, Portrait d’un visiteur (Preisträger 1985)\nfür Tonband \nClaudio Bilucaglia\, 6 movimenti per guitarra \nPaul Dolden\, Veils\, Studies in Textural Transformation (Preisträger 1986)\nfür Tonband \nGiacomo Manzoni\, Echi\nfür Gitarre \nJuraj Duris\, The Dream (Preisträger 1987)\nfür Tonband \nFranco Donatoni\, Algo\nfür Gitarre \nClaudio Chianura\, La vita antica fu tutto silenzu (Preisträger 1988)\nfür Tonband \nGoffredo Petrassi\, Nunc\nfür Gitarre \n  \nMitwirkende\nFabio Cascioli\, Gitarre
URL:https://aspekte-salzburg.com/konzert/konzert-v-16/
LOCATION:Künstlerhaus\, Hellbrunner Str. 3\, Salzburg\, 5020
END:VEVENT
END:VCALENDAR