BEGIN:VCALENDAR
VERSION:2.0
PRODID:-//aspekte SALZBURG - ECPv6.15.14//NONSGML v1.0//EN
CALSCALE:GREGORIAN
METHOD:PUBLISH
X-WR-CALNAME:aspekte SALZBURG
X-ORIGINAL-URL:https://aspekte-salzburg.com
X-WR-CALDESC:Veranstaltungen für aspekte SALZBURG
REFRESH-INTERVAL;VALUE=DURATION:PT1H
X-Robots-Tag:noindex
X-PUBLISHED-TTL:PT1H
BEGIN:VTIMEZONE
TZID:Europe/Paris
BEGIN:DAYLIGHT
TZOFFSETFROM:+0100
TZOFFSETTO:+0200
TZNAME:CEST
DTSTART:19760328T000000
END:DAYLIGHT
BEGIN:STANDARD
TZOFFSETFROM:+0200
TZOFFSETTO:+0100
TZNAME:CET
DTSTART:19760925T230000
END:STANDARD
BEGIN:DAYLIGHT
TZOFFSETFROM:+0100
TZOFFSETTO:+0200
TZNAME:CEST
DTSTART:19770403T010000
END:DAYLIGHT
BEGIN:STANDARD
TZOFFSETFROM:+0200
TZOFFSETTO:+0100
TZNAME:CET
DTSTART:19770925T010000
END:STANDARD
BEGIN:DAYLIGHT
TZOFFSETFROM:+0100
TZOFFSETTO:+0200
TZNAME:CEST
DTSTART:19780402T010000
END:DAYLIGHT
BEGIN:STANDARD
TZOFFSETFROM:+0200
TZOFFSETTO:+0100
TZNAME:CET
DTSTART:19781001T010000
END:STANDARD
END:VTIMEZONE
BEGIN:VEVENT
DTSTART;TZID=Europe/Paris:19770522T190000
DTEND;TZID=Europe/Paris:19770522T190000
DTSTAMP:20260421T104602
CREATED:20191118T131253Z
LAST-MODIFIED:20251120T152341Z
UID:2542-233175600-233175600@aspekte-salzburg.com
SUMMARY:Konzert V
DESCRIPTION:Programm\nKlaus Ager\, Métaboles \n  \nJohn Cage\, Aria \nfür Sopran und Tonband \n  \nGeorge Crumb\, 11 Echoes of autumn \n  \nMario Davidovsky\, Synchronismus Nr. 6 \nfür Klavier und elektron. Klänge \n  \nAllan Blank\, 13 ways of looking at a black bird \n  \nMitwirkende\nEnsemble Kaleido-Collage (Paris) \nG. Hartmann\, Sopran \nU. Kneihs\, Klavier \nP. Roullier\, Flöte \nY. Yanotta\, Klarinette \nM. Freudentheil\, Violine \nD. Simpson \, Violoncello
URL:https://aspekte-salzburg.com/konzert/konzert-v-26/
LOCATION:Petersbrunnhof\, Erzabt-Klotz-Str. 22\, Salzburg\, 5020
END:VEVENT
END:VCALENDAR