BEGIN:VCALENDAR
VERSION:2.0
PRODID:-//aspekte SALZBURG - ECPv6.15.14//NONSGML v1.0//EN
CALSCALE:GREGORIAN
METHOD:PUBLISH
X-WR-CALNAME:aspekte SALZBURG
X-ORIGINAL-URL:https://aspekte-salzburg.com
X-WR-CALDESC:Veranstaltungen für aspekte SALZBURG
REFRESH-INTERVAL;VALUE=DURATION:PT1H
X-Robots-Tag:noindex
X-PUBLISHED-TTL:PT1H
BEGIN:VTIMEZONE
TZID:Europe/Paris
BEGIN:DAYLIGHT
TZOFFSETFROM:+0100
TZOFFSETTO:+0200
TZNAME:CEST
DTSTART:19850331T010000
END:DAYLIGHT
BEGIN:STANDARD
TZOFFSETFROM:+0200
TZOFFSETTO:+0100
TZNAME:CET
DTSTART:19850929T010000
END:STANDARD
BEGIN:DAYLIGHT
TZOFFSETFROM:+0100
TZOFFSETTO:+0200
TZNAME:CEST
DTSTART:19860330T010000
END:DAYLIGHT
BEGIN:STANDARD
TZOFFSETFROM:+0200
TZOFFSETTO:+0100
TZNAME:CET
DTSTART:19860928T010000
END:STANDARD
BEGIN:DAYLIGHT
TZOFFSETFROM:+0100
TZOFFSETTO:+0200
TZNAME:CEST
DTSTART:19870329T010000
END:DAYLIGHT
BEGIN:STANDARD
TZOFFSETFROM:+0200
TZOFFSETTO:+0100
TZNAME:CET
DTSTART:19870927T010000
END:STANDARD
END:VTIMEZONE
BEGIN:VEVENT
DTSTART;TZID=Europe/Paris:19860509T200000
DTEND;TZID=Europe/Paris:19860509T200000
DTSTAMP:20260421T115751
CREATED:20191118T145756Z
LAST-MODIFIED:20251120T161452Z
UID:2579-516052800-516052800@aspekte-salzburg.com
SUMMARY:Konzert V
DESCRIPTION:Programm\nWolfgang von Schweinitz Musik für vier Saxophone\, op. 25 (1985) (ÖE) \nMiklos Maros\, Quartet für Saxophones (1985) \nRoman Haubenstock-Ramati\, Enchaine Saxophon-Quartett (1985) (UA) \nNicola Le Fanu\, Quartett für Saxophones (1985) (ÖE) \nHans Kox\, Saxofoonkwartet (1985)\nIntroduktion\nEtude\nVocalise\nContinuum \n  \nMitwirkende\nTHE RASCHER SAXOPHONE QUARTETT \nCarina Rascher \nLinda Bangs \nJohn-Edward Kelly \nBruce Weinberger\, Leitung
URL:https://aspekte-salzburg.com/konzert/konzert-v-28/
LOCATION:Großes Studio\, Universität Mozarteum\, Mirabellplatz 1\, Salzburg\, 5020
END:VEVENT
END:VCALENDAR