BEGIN:VCALENDAR
VERSION:2.0
PRODID:-//aspekte SALZBURG - ECPv6.15.14//NONSGML v1.0//EN
CALSCALE:GREGORIAN
METHOD:PUBLISH
X-WR-CALNAME:aspekte SALZBURG
X-ORIGINAL-URL:https://aspekte-salzburg.com
X-WR-CALDESC:Veranstaltungen für aspekte SALZBURG
REFRESH-INTERVAL;VALUE=DURATION:PT1H
X-Robots-Tag:noindex
X-PUBLISHED-TTL:PT1H
BEGIN:VTIMEZONE
TZID:Europe/Paris
BEGIN:DAYLIGHT
TZOFFSETFROM:+0100
TZOFFSETTO:+0200
TZNAME:CEST
DTSTART:20010325T010000
END:DAYLIGHT
BEGIN:STANDARD
TZOFFSETFROM:+0200
TZOFFSETTO:+0100
TZNAME:CET
DTSTART:20011028T010000
END:STANDARD
BEGIN:DAYLIGHT
TZOFFSETFROM:+0100
TZOFFSETTO:+0200
TZNAME:CEST
DTSTART:20020331T010000
END:DAYLIGHT
BEGIN:STANDARD
TZOFFSETFROM:+0200
TZOFFSETTO:+0100
TZNAME:CET
DTSTART:20021027T010000
END:STANDARD
BEGIN:DAYLIGHT
TZOFFSETFROM:+0100
TZOFFSETTO:+0200
TZNAME:CEST
DTSTART:20030330T010000
END:DAYLIGHT
BEGIN:STANDARD
TZOFFSETFROM:+0200
TZOFFSETTO:+0100
TZNAME:CET
DTSTART:20031026T010000
END:STANDARD
END:VTIMEZONE
BEGIN:VEVENT
DTSTART;TZID=Europe/Paris:20020227T190000
DTEND;TZID=Europe/Paris:20020227T190000
DTSTAMP:20260421T104455
CREATED:20190725T122047Z
LAST-MODIFIED:20251120T160041Z
UID:1790-1014836400-1014836400@aspekte-salzburg.com
SUMMARY:Konzert V
DESCRIPTION:Programm\nWladimir Pantchev Quartett VIII \nVioleta Dinescu\, Ruga (1996)\nfür Sopransaxophon\, Akkordeon und Kontrabass \nKlaus Ager\, Moarré (1993)\nfür Akkordeon und Vibraphon \nZdzislaw Wysocki\,\nEtude op. 60 Nr. 2o\nfür Sopransaxophon und Kontrabass\nEtude op. 60 Nr. 21\nfür Altsaxophon\, Kontrabass\nEtude op. 60 Nr. 22\nfür Tenorsaxophon\, Schlagzeug\, Kontrabass und Akkordeon \nAlfred Peschek\, Lied (2001)\,\nQuartett für Altsaxophon\, Vibraphon\, Akkordeon und Kontrabass \nBruno Strobl\, Schwarze Gedankendrachen – helles Geisterlachen (1998)\nfür Akkordeon und Schlagzeug \nKarmella Tsepkolenko\, Wenn die Kette zerrisse\, fände sie bestimmt nicht alle Perlen wieder (1998)\nfür Tenorsaxophon\, Akkordeon\, Kontrabass und Schlagzeug \n  \nMitwirkende\nEnsemble Wiener Collage\nAlfred Melichar\, Akkordeon\nPeter Rohrsdorfer\, Saxophon\nMichael Selfried\, Kontrabass\nUlrike Stadler-Fromme\, Schlagwerk \n 
URL:https://aspekte-salzburg.com/konzert/konzert-v-3/
LOCATION:SEAD\, Schallmoser Hauptstr. 48\, Salzburg\, 5020
END:VEVENT
END:VCALENDAR