BEGIN:VCALENDAR
VERSION:2.0
PRODID:-//aspekte SALZBURG - ECPv6.15.14//NONSGML v1.0//EN
CALSCALE:GREGORIAN
METHOD:PUBLISH
X-WR-CALNAME:aspekte SALZBURG
X-ORIGINAL-URL:https://aspekte-salzburg.com
X-WR-CALDESC:Veranstaltungen für aspekte SALZBURG
REFRESH-INTERVAL;VALUE=DURATION:PT1H
X-Robots-Tag:noindex
X-PUBLISHED-TTL:PT1H
BEGIN:VTIMEZONE
TZID:Europe/Paris
BEGIN:DAYLIGHT
TZOFFSETFROM:+0100
TZOFFSETTO:+0200
TZNAME:CEST
DTSTART:19950326T010000
END:DAYLIGHT
BEGIN:STANDARD
TZOFFSETFROM:+0200
TZOFFSETTO:+0100
TZNAME:CET
DTSTART:19950924T010000
END:STANDARD
BEGIN:DAYLIGHT
TZOFFSETFROM:+0100
TZOFFSETTO:+0200
TZNAME:CEST
DTSTART:19960331T010000
END:DAYLIGHT
BEGIN:STANDARD
TZOFFSETFROM:+0200
TZOFFSETTO:+0100
TZNAME:CET
DTSTART:19961027T010000
END:STANDARD
BEGIN:DAYLIGHT
TZOFFSETFROM:+0100
TZOFFSETTO:+0200
TZNAME:CEST
DTSTART:19970330T010000
END:DAYLIGHT
BEGIN:STANDARD
TZOFFSETFROM:+0200
TZOFFSETTO:+0100
TZNAME:CET
DTSTART:19971026T010000
END:STANDARD
END:VTIMEZONE
BEGIN:VEVENT
DTSTART;TZID=Europe/Paris:19960511T211500
DTEND;TZID=Europe/Paris:19960511T211500
DTSTAMP:20260421T115729
CREATED:20190731T120223Z
LAST-MODIFIED:20251120T160442Z
UID:1933-831849300-831849300@aspekte-salzburg.com
SUMMARY:Konzert V
DESCRIPTION:Programm\nBruno Strobl\, Durchdringung \nJosef Maria Horvath\, Verschiebung\nfür 4 Instrumente. Komponiert mit dem Computerprogramm „Mupro 5” von I. Radauer \nHerbert Grassl\, Leicht verstimmt… (1995) \nChristian Ofenbauer\, Der Engel ist geschlachtet (1995\, UA)\nBruch Stück V (1995) \n  \nMitwirkende\nTanzkompanie Erika Gangl\, Linz \nCarmen Fallwickl\, Tanz und Pauke \nBernadette Furch\, Alt \nClaudia Tinta\, Violine \nDaniela Giretzlehner\, Violine \nCarmen Fallwickl\, Viola \nJulia Nica\, Violoncello \nOswald Sallaberger und Herbert Grassl\, Leitung
URL:https://aspekte-salzburg.com/konzert/konzert-v-9/
LOCATION:Großes Studio\, Universität Mozarteum\, Mirabellplatz 1\, Salzburg\, 5020
END:VEVENT
END:VCALENDAR