BEGIN:VCALENDAR
VERSION:2.0
PRODID:-//aspekte SALZBURG - ECPv6.15.14//NONSGML v1.0//EN
CALSCALE:GREGORIAN
METHOD:PUBLISH
X-WR-CALNAME:aspekte SALZBURG
X-ORIGINAL-URL:https://aspekte-salzburg.com
X-WR-CALDESC:Veranstaltungen für aspekte SALZBURG
REFRESH-INTERVAL;VALUE=DURATION:PT1H
X-Robots-Tag:noindex
X-PUBLISHED-TTL:PT1H
BEGIN:VTIMEZONE
TZID:Europe/Paris
BEGIN:DAYLIGHT
TZOFFSETFROM:+0100
TZOFFSETTO:+0200
TZNAME:CEST
DTSTART:20110327T010000
END:DAYLIGHT
BEGIN:STANDARD
TZOFFSETFROM:+0200
TZOFFSETTO:+0100
TZNAME:CET
DTSTART:20111030T010000
END:STANDARD
BEGIN:DAYLIGHT
TZOFFSETFROM:+0100
TZOFFSETTO:+0200
TZNAME:CEST
DTSTART:20120325T010000
END:DAYLIGHT
BEGIN:STANDARD
TZOFFSETFROM:+0200
TZOFFSETTO:+0100
TZNAME:CET
DTSTART:20121028T010000
END:STANDARD
BEGIN:DAYLIGHT
TZOFFSETFROM:+0100
TZOFFSETTO:+0200
TZNAME:CEST
DTSTART:20130331T010000
END:DAYLIGHT
BEGIN:STANDARD
TZOFFSETFROM:+0200
TZOFFSETTO:+0100
TZNAME:CET
DTSTART:20131027T010000
END:STANDARD
END:VTIMEZONE
BEGIN:VEVENT
DTSTART;TZID=Europe/Paris:20120511T160000
DTEND;TZID=Europe/Paris:20120511T170000
DTSTAMP:20260421T120212
CREATED:20190717T070359Z
LAST-MODIFIED:20251120T155501Z
UID:1585-1336752000-1336755600@aspekte-salzburg.com
SUMMARY:Konzert V | Gesprächskonzert Friedrich Cerha
DESCRIPTION:Programm\n  \nFriedrich Cerha (*1926) \n3. Streichquartett (1991/92) \nCD Präsentation „Chamber Music with Clarinet” \nAndreas Schablas\, Klarinette | Hugo Wolf Quartett erschienen am 30. Jänner 2012 bei NEOS \n  \naus: Acht Bagatellen für Klarinette und Klavier (2009) \nIII. Sehr frei \n  \nQuintett für Klarinette und Streichquartett (2004) \n3. Satz: Intermezzo (Zuspielung von CD) \n  \nMitwirkende\n  \nstadler quartet \nFrank Stadler\, Violine \nIzso Bajusz\, Violine \nPredrag Katanic\, Viola \n  \nAndreas Schablas\, Klarinette
URL:https://aspekte-salzburg.com/konzert/konzert-v-gespraechskonzert-friedrich-cerha/
LOCATION:Solitär\, Universität Mozarteum\, Mirabellplatz 1\, Salzburg\, 5020\, Österreich
END:VEVENT
END:VCALENDAR