BEGIN:VCALENDAR
VERSION:2.0
PRODID:-//aspekte SALZBURG - ECPv6.15.14//NONSGML v1.0//EN
CALSCALE:GREGORIAN
METHOD:PUBLISH
X-WR-CALNAME:aspekte SALZBURG
X-ORIGINAL-URL:https://aspekte-salzburg.com
X-WR-CALDESC:Veranstaltungen für aspekte SALZBURG
REFRESH-INTERVAL;VALUE=DURATION:PT1H
X-Robots-Tag:noindex
X-PUBLISHED-TTL:PT1H
BEGIN:VTIMEZONE
TZID:Europe/Paris
BEGIN:DAYLIGHT
TZOFFSETFROM:+0100
TZOFFSETTO:+0200
TZNAME:CEST
DTSTART:20050327T010000
END:DAYLIGHT
BEGIN:STANDARD
TZOFFSETFROM:+0200
TZOFFSETTO:+0100
TZNAME:CET
DTSTART:20051030T010000
END:STANDARD
BEGIN:DAYLIGHT
TZOFFSETFROM:+0100
TZOFFSETTO:+0200
TZNAME:CEST
DTSTART:20060326T010000
END:DAYLIGHT
BEGIN:STANDARD
TZOFFSETFROM:+0200
TZOFFSETTO:+0100
TZNAME:CET
DTSTART:20061029T010000
END:STANDARD
BEGIN:DAYLIGHT
TZOFFSETFROM:+0100
TZOFFSETTO:+0200
TZNAME:CEST
DTSTART:20070325T010000
END:DAYLIGHT
BEGIN:STANDARD
TZOFFSETFROM:+0200
TZOFFSETTO:+0100
TZNAME:CET
DTSTART:20071028T010000
END:STANDARD
END:VTIMEZONE
BEGIN:VEVENT
DTSTART;TZID=Europe/Paris:20060209T190000
DTEND;TZID=Europe/Paris:20060209T190000
DTSTAMP:20260421T104647
CREATED:20190723T065011Z
LAST-MODIFIED:20251120T155755Z
UID:1686-1139511600-1139511600@aspekte-salzburg.com
SUMMARY:Konzert V | Quartet New Generation
DESCRIPTION:Programm\nKeyla Orozco\, A-Cuatro (2002) \nGiovanni Mancuso\, Non Ti Á Piaciato? (2005\, für QNG komponiert) \nKoen Nutters\, Neues Werk (2006\, für QNG komponiert) \nBart de Kemp\, Lieto (1990) \nMichiel Mensingh\, Wicked (2001\, für QNG komponiert) \nM. Papalexandri-Alexandri\, Still life (2003\, für QNG komponiert) \nArvo Pärt\, Pari intervallo (1976/1980) \nMarcel Reuter\, Neues Werk (2006\, für QNG komponiert) \nChiel Meijering\, Sitting Ducks \n\nMitwirkende\nQNG – Quartet New Generation \nRecorder collective\, Amsterdam/Berlin\nAndrea Guttmann\nHannah Pape\nHeide Schwarz\nSusanne Fröhlich
URL:https://aspekte-salzburg.com/konzert/konzert-v-quartet-new-generation/
LOCATION:Große Aula\, Universität Salzburg\, Hofstallgasse 2-4\, Salzburg\, 5020
END:VEVENT
END:VCALENDAR