BEGIN:VCALENDAR
VERSION:2.0
PRODID:-//aspekte SALZBURG - ECPv6.15.14//NONSGML v1.0//EN
CALSCALE:GREGORIAN
METHOD:PUBLISH
X-WR-CALNAME:aspekte SALZBURG
X-ORIGINAL-URL:https://aspekte-salzburg.com
X-WR-CALDESC:Veranstaltungen für aspekte SALZBURG
REFRESH-INTERVAL;VALUE=DURATION:PT1H
X-Robots-Tag:noindex
X-PUBLISHED-TTL:PT1H
BEGIN:VTIMEZONE
TZID:Europe/Paris
BEGIN:DAYLIGHT
TZOFFSETFROM:+0100
TZOFFSETTO:+0200
TZNAME:CEST
DTSTART:20020331T010000
END:DAYLIGHT
BEGIN:STANDARD
TZOFFSETFROM:+0200
TZOFFSETTO:+0100
TZNAME:CET
DTSTART:20021027T010000
END:STANDARD
BEGIN:DAYLIGHT
TZOFFSETFROM:+0100
TZOFFSETTO:+0200
TZNAME:CEST
DTSTART:20030330T010000
END:DAYLIGHT
BEGIN:STANDARD
TZOFFSETFROM:+0200
TZOFFSETTO:+0100
TZNAME:CET
DTSTART:20031026T010000
END:STANDARD
BEGIN:DAYLIGHT
TZOFFSETFROM:+0100
TZOFFSETTO:+0200
TZNAME:CEST
DTSTART:20040328T010000
END:DAYLIGHT
BEGIN:STANDARD
TZOFFSETFROM:+0200
TZOFFSETTO:+0100
TZNAME:CET
DTSTART:20041031T010000
END:STANDARD
END:VTIMEZONE
BEGIN:VEVENT
DTSTART;TZID=Europe/Paris:20030228T210000
DTEND;TZID=Europe/Paris:20030228T210000
DTSTAMP:20260421T104446
CREATED:20190724T073323Z
LAST-MODIFIED:20251120T155954Z
UID:1734-1046466000-1046466000@aspekte-salzburg.com
SUMMARY:Konzert V
DESCRIPTION:Programm\nManfred Niehaus\, Am Meer (1976)\nfür Sopran und Streichquartett (UA der Neufassung) \nAlfred Peschek\, Kantaoui (2002)\nfür Klarinette\, Violine\, Violoncello und Klavier \nJorge Antunes\, Klarinettenquartett (1996) ÖE\nfür Klarinette\, 2 Violinen\, Viola\, Violoncello und Klavier \nAndor Losonczy\, Schattenspiele (2003) UA\nFür Klarinette\, 2 Violinen\, Viola\, Violoncello und Klavier \n  \nMitwirkende\nAspekte New Music Ensemble\nKatrin Lehismets\, Sopran\nTheodor Burkali\, Klarinette\nEmil Rieder\, Klarinette\nPer Rundberg\, Klavier\nAntoine Bareil\, Violine\nJoanna Kamenarska\, Violine\nJutas Javorka\, Viola\nChi Hui Chang\, Cello\nKai Röhrig\, Dirigent
URL:https://aspekte-salzburg.com/konzert/konzert-v/
LOCATION:SEAD\, Schallmoser Hauptstr. 48\, Salzburg\, 5020
END:VEVENT
END:VCALENDAR