BEGIN:VCALENDAR
VERSION:2.0
PRODID:-//aspekte SALZBURG - ECPv6.15.14//NONSGML v1.0//EN
CALSCALE:GREGORIAN
METHOD:PUBLISH
X-WR-CALNAME:aspekte SALZBURG
X-ORIGINAL-URL:https://aspekte-salzburg.com
X-WR-CALDESC:Veranstaltungen für aspekte SALZBURG
REFRESH-INTERVAL;VALUE=DURATION:PT1H
X-Robots-Tag:noindex
X-PUBLISHED-TTL:PT1H
BEGIN:VTIMEZONE
TZID:Europe/Paris
BEGIN:DAYLIGHT
TZOFFSETFROM:+0100
TZOFFSETTO:+0200
TZNAME:CEST
DTSTART:19920329T010000
END:DAYLIGHT
BEGIN:STANDARD
TZOFFSETFROM:+0200
TZOFFSETTO:+0100
TZNAME:CET
DTSTART:19920927T010000
END:STANDARD
BEGIN:DAYLIGHT
TZOFFSETFROM:+0100
TZOFFSETTO:+0200
TZNAME:CEST
DTSTART:19930328T010000
END:DAYLIGHT
BEGIN:STANDARD
TZOFFSETFROM:+0200
TZOFFSETTO:+0100
TZNAME:CET
DTSTART:19930926T010000
END:STANDARD
BEGIN:DAYLIGHT
TZOFFSETFROM:+0100
TZOFFSETTO:+0200
TZNAME:CEST
DTSTART:19940327T010000
END:DAYLIGHT
BEGIN:STANDARD
TZOFFSETFROM:+0200
TZOFFSETTO:+0100
TZNAME:CET
DTSTART:19940925T010000
END:STANDARD
END:VTIMEZONE
BEGIN:VEVENT
DTSTART;TZID=Europe/Paris:19930419T200000
DTEND;TZID=Europe/Paris:19930419T200000
DTSTAMP:20260421T120021
CREATED:20190806T082245Z
LAST-MODIFIED:20251120T160702Z
UID:2025-735249600-735249600@aspekte-salzburg.com
SUMMARY:Konzert VI
DESCRIPTION:Programm\nNichts kommt von selbst\, Ein Kunststück politischer Geschichte (1993) \nTanztheater des ORFF-Institutes der Hochschule Mozarteum \n  \nMitwirkende\nGabriele Klein\, Choreographie/Idee und Konzept \nChris Amrhein\, Tanz \nRupert Bopp\, Tanz \nRuth Derschmidt\, Tanz \nKozva Guttierez-Delgado\, Tanz \nMichaela Kutter\, Tanz \nMathias Hudelmayer\, Tanz \nWerner Raditschnig\, Musik \nJürgen Spiler\, Bild \nCordula Hofmann-Molis\, Kleidung \n 
URL:https://aspekte-salzburg.com/konzert/konzert-vi-12/
LOCATION:Großes Studio\, Universität Mozarteum\, Mirabellplatz 1\, Salzburg\, 5020
END:VEVENT
END:VCALENDAR