BEGIN:VCALENDAR
VERSION:2.0
PRODID:-//aspekte SALZBURG - ECPv6.15.14//NONSGML v1.0//EN
CALSCALE:GREGORIAN
METHOD:PUBLISH
X-WR-CALNAME:aspekte SALZBURG
X-ORIGINAL-URL:https://aspekte-salzburg.com
X-WR-CALDESC:Veranstaltungen für aspekte SALZBURG
REFRESH-INTERVAL;VALUE=DURATION:PT1H
X-Robots-Tag:noindex
X-PUBLISHED-TTL:PT1H
BEGIN:VTIMEZONE
TZID:Europe/Paris
BEGIN:DAYLIGHT
TZOFFSETFROM:+0100
TZOFFSETTO:+0200
TZNAME:CEST
DTSTART:19890326T010000
END:DAYLIGHT
BEGIN:STANDARD
TZOFFSETFROM:+0200
TZOFFSETTO:+0100
TZNAME:CET
DTSTART:19890924T010000
END:STANDARD
BEGIN:DAYLIGHT
TZOFFSETFROM:+0100
TZOFFSETTO:+0200
TZNAME:CEST
DTSTART:19900325T010000
END:DAYLIGHT
BEGIN:STANDARD
TZOFFSETFROM:+0200
TZOFFSETTO:+0100
TZNAME:CET
DTSTART:19900930T010000
END:STANDARD
BEGIN:DAYLIGHT
TZOFFSETFROM:+0100
TZOFFSETTO:+0200
TZNAME:CEST
DTSTART:19910331T010000
END:DAYLIGHT
BEGIN:STANDARD
TZOFFSETFROM:+0200
TZOFFSETTO:+0100
TZNAME:CET
DTSTART:19910929T010000
END:STANDARD
END:VTIMEZONE
BEGIN:VEVENT
DTSTART;TZID=Europe/Paris:19900612T220000
DTEND;TZID=Europe/Paris:19900612T220000
DTSTAMP:20260421T104654
CREATED:20190809T072131Z
LAST-MODIFIED:20251120T161042Z
UID:2123-645228000-645228000@aspekte-salzburg.com
SUMMARY:Konzert VI
DESCRIPTION:Programm\nEsther Roth\, Stampa (1986)\nfür 12 präparierte Saitenbereiche \nElisabeth Lutyens\, Two bagatelles aus op. 48 (1963)\nfür Klavier \nGermaine Tailleferre\, Pastorale (1919)\nfür Klavier \nGrazyna Bacewicz\, Sonata Nr. 2 (1953)\nMaestoso\nLargo\nToccata \nGeneviève Calame\, Oniria (1987)\nfür Klavier und Tonband (2. Fassung) \nSofia Gubaidulina\, Sonata für Klavier (1965)\nAllegro\nAdagio\nAllegretto \n  \nMitwirkende\nEmmy Henz-Diémand\, Klavier
URL:https://aspekte-salzburg.com/konzert/konzert-vi-15/
LOCATION:Künstlerhaus\, Hellbrunner Str. 3\, Salzburg\, 5020
END:VEVENT
END:VCALENDAR