BEGIN:VCALENDAR
VERSION:2.0
PRODID:-//aspekte SALZBURG - ECPv6.15.14//NONSGML v1.0//EN
CALSCALE:GREGORIAN
METHOD:PUBLISH
X-WR-CALNAME:aspekte SALZBURG
X-ORIGINAL-URL:https://aspekte-salzburg.com
X-WR-CALDESC:Veranstaltungen für aspekte SALZBURG
REFRESH-INTERVAL;VALUE=DURATION:PT1H
X-Robots-Tag:noindex
X-PUBLISHED-TTL:PT1H
BEGIN:VTIMEZONE
TZID:Europe/Paris
BEGIN:DAYLIGHT
TZOFFSETFROM:+0100
TZOFFSETTO:+0200
TZNAME:CEST
DTSTART:19870329T010000
END:DAYLIGHT
BEGIN:STANDARD
TZOFFSETFROM:+0200
TZOFFSETTO:+0100
TZNAME:CET
DTSTART:19870927T010000
END:STANDARD
BEGIN:DAYLIGHT
TZOFFSETFROM:+0100
TZOFFSETTO:+0200
TZNAME:CEST
DTSTART:19880327T010000
END:DAYLIGHT
BEGIN:STANDARD
TZOFFSETFROM:+0200
TZOFFSETTO:+0100
TZNAME:CET
DTSTART:19880925T010000
END:STANDARD
BEGIN:DAYLIGHT
TZOFFSETFROM:+0100
TZOFFSETTO:+0200
TZNAME:CEST
DTSTART:19890326T010000
END:DAYLIGHT
BEGIN:STANDARD
TZOFFSETFROM:+0200
TZOFFSETTO:+0100
TZNAME:CET
DTSTART:19890924T010000
END:STANDARD
END:VTIMEZONE
BEGIN:VEVENT
DTSTART;TZID=Europe/Paris:19880512T230000
DTEND;TZID=Europe/Paris:19880512T230000
DTSTAMP:20260421T115859
CREATED:20190814T112242Z
LAST-MODIFIED:20251120T161324Z
UID:2182-579481200-579481200@aspekte-salzburg.com
SUMMARY:Konzert VI
DESCRIPTION:Programm\nWolfgang Danzmayr\, Tableau I\nTonband-Live-Mix \n  \nMitwirkende\nManfred Hofer\, Tonmeister der ORF Aufnahme \nHerbert Pascher\, Musikalische Assistenz \nJosef Siller\, Musikalische Assistenz \nHeimo Weilharter\, Darsteller \nTomas Josef Landa\, Bühne und Licht
URL:https://aspekte-salzburg.com/konzert/konzert-vi-17/
LOCATION:TOI-Haus\, Franz-Josef-Straße 4\, Salzburg\, 5020
END:VEVENT
END:VCALENDAR