BEGIN:VCALENDAR
VERSION:2.0
PRODID:-//aspekte SALZBURG - ECPv6.15.14//NONSGML v1.0//EN
CALSCALE:GREGORIAN
METHOD:PUBLISH
X-WR-CALNAME:aspekte SALZBURG
X-ORIGINAL-URL:https://aspekte-salzburg.com
X-WR-CALDESC:Veranstaltungen für aspekte SALZBURG
REFRESH-INTERVAL;VALUE=DURATION:PT1H
X-Robots-Tag:noindex
X-PUBLISHED-TTL:PT1H
BEGIN:VTIMEZONE
TZID:Europe/Paris
BEGIN:DAYLIGHT
TZOFFSETFROM:+0100
TZOFFSETTO:+0200
TZNAME:CEST
DTSTART:20030330T010000
END:DAYLIGHT
BEGIN:STANDARD
TZOFFSETFROM:+0200
TZOFFSETTO:+0100
TZNAME:CET
DTSTART:20031026T010000
END:STANDARD
BEGIN:DAYLIGHT
TZOFFSETFROM:+0100
TZOFFSETTO:+0200
TZNAME:CEST
DTSTART:20040328T010000
END:DAYLIGHT
BEGIN:STANDARD
TZOFFSETFROM:+0200
TZOFFSETTO:+0100
TZNAME:CET
DTSTART:20041031T010000
END:STANDARD
BEGIN:DAYLIGHT
TZOFFSETFROM:+0100
TZOFFSETTO:+0200
TZNAME:CEST
DTSTART:20050327T010000
END:DAYLIGHT
BEGIN:STANDARD
TZOFFSETFROM:+0200
TZOFFSETTO:+0100
TZNAME:CET
DTSTART:20051030T010000
END:STANDARD
END:VTIMEZONE
BEGIN:VEVENT
DTSTART;TZID=Europe/Paris:20040228T210000
DTEND;TZID=Europe/Paris:20040228T210000
DTSTAMP:20260421T105607
CREATED:20190724T130142Z
LAST-MODIFIED:20251120T155916Z
UID:1765-1078002000-1078002000@aspekte-salzburg.com
SUMMARY:Konzert VI
DESCRIPTION:Programm\nSukhi Kang\, Buru\nfür Stimme\, Flöte\, Klarinette\, Klavier und Schlagwerk \nJi-Young Oh\, Streichtrio\nfür Violine\, Viola\, Violoncello \nUzong Choe\, Hebrew Melodies\,\nfür Ensemble \nChengbi An\, Hyun-Oh\nfür Klavier und Schlagwerk \nIsang Yun\, Pièce concertante\nfür Ensemble \n  \nMitwirkende\nAspekte New Music Ensemble\nKai Röhrig\, Leitung\nKathrin Lehismets\, Sopran\nLuisa Sello\, Flöte\nTheodor Burkali\, Klarinette\nPer Rundberg\, Klavier\nJoanna Kamenarska\, Violine\nGeorges E. Schneider\, Violine\nJutas Javorkas\, Viola\nChih Hui Chang\, Violoncello\nRizumu Sugishita\, Schlagwerk\nClarissa Bürgschwendtner\, Kontrabass \nAncuza Aprodu\, Klavier\nThierry Miroglio\, Percussion
URL:https://aspekte-salzburg.com/konzert/konzert-vi-2/
LOCATION:SEAD\, Schallmoser Hauptstr. 48\, Salzburg\, 5020
END:VEVENT
END:VCALENDAR