BEGIN:VCALENDAR
VERSION:2.0
PRODID:-//aspekte SALZBURG - ECPv6.15.14//NONSGML v1.0//EN
CALSCALE:GREGORIAN
METHOD:PUBLISH
X-WR-CALNAME:aspekte SALZBURG
X-ORIGINAL-URL:https://aspekte-salzburg.com
X-WR-CALDESC:Veranstaltungen für aspekte SALZBURG
REFRESH-INTERVAL;VALUE=DURATION:PT1H
X-Robots-Tag:noindex
X-PUBLISHED-TTL:PT1H
BEGIN:VTIMEZONE
TZID:Europe/Paris
BEGIN:DAYLIGHT
TZOFFSETFROM:+0100
TZOFFSETTO:+0200
TZNAME:CEST
DTSTART:19820328T010000
END:DAYLIGHT
BEGIN:STANDARD
TZOFFSETFROM:+0200
TZOFFSETTO:+0100
TZNAME:CET
DTSTART:19820926T010000
END:STANDARD
BEGIN:DAYLIGHT
TZOFFSETFROM:+0100
TZOFFSETTO:+0200
TZNAME:CEST
DTSTART:19830327T010000
END:DAYLIGHT
BEGIN:STANDARD
TZOFFSETFROM:+0200
TZOFFSETTO:+0100
TZNAME:CET
DTSTART:19830925T010000
END:STANDARD
BEGIN:DAYLIGHT
TZOFFSETFROM:+0100
TZOFFSETTO:+0200
TZNAME:CEST
DTSTART:19840325T010000
END:DAYLIGHT
BEGIN:STANDARD
TZOFFSETFROM:+0200
TZOFFSETTO:+0100
TZNAME:CET
DTSTART:19840930T010000
END:STANDARD
END:VTIMEZONE
BEGIN:VEVENT
DTSTART;TZID=Europe/Paris:19830512T200000
DTEND;TZID=Europe/Paris:19830512T200000
DTSTAMP:20260421T104738
CREATED:20190823T114404Z
LAST-MODIFIED:20251120T153046Z
UID:2310-421617600-421617600@aspekte-salzburg.com
SUMMARY:Konzert VI
DESCRIPTION:Programm\nMauricio Kagel\, Halleluja\nfür Solostimmen (1967) \nRaoul Hausmann\, Lautgedichte\, Plakatgedichte (1918)\nManifest\nfms\nopossum + oiseautal\nsoundrel\nkp’erioum \nLadislav Novak\, konstelace\nkonkrete Gedichte (1963)\nSommernächtlicher Zauber\nAustreibung aus dem Paradies\nDie Geliebte des Metzgers\nindividualista \nVelemir Chlebnikov\, Lautgedichte\nin Zaum-Lautschrift (1908-20)\nin deutscher Übertragung \nEx Voco\, Atemklang\neine Gruppenimprovisation \nArno Holz\, Phantasus\nGedichte (1898-1925)\nFragmente gesprochen zu dritt \nSylvano Bussotti\, Lettura di Braibanti\nper voce sola (1959) \nA nestis Logothetis\, Anastasis\nein Hörspiel (1969) \nHans Ulrich Lehmann\, Motetus Paraburi\nnach Kurt Marti\nfür drei Sänger (1978) \nGuillaume Apollinaire\, Calligrammes\,\npoèmes de la paix et de la guerre (1913-17)\ndargestellt von Stimmen\, Projektion und Live Elektronik \nPaolo Castaldi\, Cardini\nSolfeggio parlante\nper voce sola (1973) \nKlaus Stahmer\, Die Landschaft in meiner Stimme\nmusikalische Grafik (978)\nfür Stimmen und Mikrofon \nGiacomo Balla\, tavola parolibera\nonomatopea futurista (1914)\nRealisierung für Einzelstimme\ncanzone die maggio\npaesaggio + temporale\nmacchina tipografica \n  \nMitwirkende\nEX VOCO (Ex panded Voice COmpany) Stuttgart \nHanna Aurbacher\, Mezzosopran\nTheophil Maier\, Tenor\nEdwald Liska\, Bariton\, Leitung\nDieter Mack\, Elektronik
URL:https://aspekte-salzburg.com/konzert/konzert-vi-21/
LOCATION:ORF Publikumsstudio\, Nonntaler Hauptstr. 49\, Salzburg\, 5020
END:VEVENT
END:VCALENDAR