BEGIN:VCALENDAR
VERSION:2.0
PRODID:-//aspekte SALZBURG - ECPv6.15.14//NONSGML v1.0//EN
CALSCALE:GREGORIAN
METHOD:PUBLISH
X-WR-CALNAME:aspekte SALZBURG
X-ORIGINAL-URL:https://aspekte-salzburg.com
X-WR-CALDESC:Veranstaltungen für aspekte SALZBURG
REFRESH-INTERVAL;VALUE=DURATION:PT1H
X-Robots-Tag:noindex
X-PUBLISHED-TTL:PT1H
BEGIN:VTIMEZONE
TZID:Europe/Paris
BEGIN:DAYLIGHT
TZOFFSETFROM:+0100
TZOFFSETTO:+0200
TZNAME:CEST
DTSTART:19810329T010000
END:DAYLIGHT
BEGIN:STANDARD
TZOFFSETFROM:+0200
TZOFFSETTO:+0100
TZNAME:CET
DTSTART:19810927T010000
END:STANDARD
BEGIN:DAYLIGHT
TZOFFSETFROM:+0100
TZOFFSETTO:+0200
TZNAME:CEST
DTSTART:19820328T010000
END:DAYLIGHT
BEGIN:STANDARD
TZOFFSETFROM:+0200
TZOFFSETTO:+0100
TZNAME:CET
DTSTART:19820926T010000
END:STANDARD
BEGIN:DAYLIGHT
TZOFFSETFROM:+0100
TZOFFSETTO:+0200
TZNAME:CEST
DTSTART:19830327T010000
END:DAYLIGHT
BEGIN:STANDARD
TZOFFSETFROM:+0200
TZOFFSETTO:+0100
TZNAME:CET
DTSTART:19830925T010000
END:STANDARD
END:VTIMEZONE
BEGIN:VEVENT
DTSTART;TZID=Europe/Paris:19820522T190000
DTEND;TZID=Europe/Paris:19820522T190000
DTSTAMP:20260421T104649
CREATED:20190826T112549Z
LAST-MODIFIED:20251120T152731Z
UID:2342-390942000-390942000@aspekte-salzburg.com
SUMMARY:Konzert VI
DESCRIPTION:Programm\nKlaus Ager\, Metaboles IV (1977) \nMauricio Kagel\, Streichquartett 1965/67 Teil 1 \nTon Bryunèl Translucent I \nMauricio Kagel\, Streichquartett 1965/67 Teil 2 \nGeorge Cumb\, Black Angels (Schwarze Engel – 13 Bilder aus dem dunklen Lande) \n  \nMitwirkende\nGaudeamus Streichquartett \nJan Wittenberg\, Violine \nPaul Hendriks\, Violine \nHans Neuburger\, Bratsche \nMax Werner\, Cello
URL:https://aspekte-salzburg.com/konzert/konzert-vi-22/
LOCATION:Markussaal\, Studentenzentrum\, Gsättengasse 16\, Salzburg\, 5020
END:VEVENT
END:VCALENDAR