BEGIN:VCALENDAR
VERSION:2.0
PRODID:-//aspekte SALZBURG - ECPv6.15.14//NONSGML v1.0//EN
CALSCALE:GREGORIAN
METHOD:PUBLISH
X-WR-CALNAME:aspekte SALZBURG
X-ORIGINAL-URL:https://aspekte-salzburg.com
X-WR-CALDESC:Veranstaltungen für aspekte SALZBURG
REFRESH-INTERVAL;VALUE=DURATION:PT1H
X-Robots-Tag:noindex
X-PUBLISHED-TTL:PT1H
BEGIN:VTIMEZONE
TZID:Europe/Paris
BEGIN:DAYLIGHT
TZOFFSETFROM:+0100
TZOFFSETTO:+0200
TZNAME:CEST
DTSTART:19780402T010000
END:DAYLIGHT
BEGIN:STANDARD
TZOFFSETFROM:+0200
TZOFFSETTO:+0100
TZNAME:CET
DTSTART:19781001T010000
END:STANDARD
BEGIN:DAYLIGHT
TZOFFSETFROM:+0100
TZOFFSETTO:+0200
TZNAME:CEST
DTSTART:19790401T010000
END:DAYLIGHT
BEGIN:STANDARD
TZOFFSETFROM:+0200
TZOFFSETTO:+0100
TZNAME:CET
DTSTART:19790930T010000
END:STANDARD
BEGIN:DAYLIGHT
TZOFFSETFROM:+0100
TZOFFSETTO:+0200
TZNAME:CEST
DTSTART:19800406T010000
END:DAYLIGHT
BEGIN:STANDARD
TZOFFSETFROM:+0200
TZOFFSETTO:+0100
TZNAME:CET
DTSTART:19800928T010000
END:STANDARD
END:VTIMEZONE
BEGIN:VEVENT
DTSTART;TZID=Europe/Paris:19790617T193000
DTEND;TZID=Europe/Paris:19790617T193000
DTSTAMP:20260421T104655
CREATED:20191118T140945Z
LAST-MODIFIED:20251120T152607Z
UID:2565-298495800-298495800@aspekte-salzburg.com
SUMMARY:Konzert VI
DESCRIPTION:Programm\nBoguslaw Schäffer\,\nModel4\nSelf-Expression\nSynectics\nFragment\nBlues 1\nAudience 2 \n\nMitwirkende\nENSEMBLE MW 2\, Krakau \nJanusz Peszek\, Schauspieler \nMikolaj Grabowisky\, Schauspieler \nAndrzej Kierc\, Schauspieler \nAdam Kaczynski\, Klavier \nMarek Mietelski\, Klavier \nBoguslaw Pilawski\, Violine \nKazimierz Koslacz\, Violoncello
URL:https://aspekte-salzburg.com/konzert/konzert-vi-27/
LOCATION:Petersbrunnhof\, Erzabt-Klotz-Str. 22\, Salzburg\, 5020
END:VEVENT
END:VCALENDAR