BEGIN:VCALENDAR
VERSION:2.0
PRODID:-//aspekte SALZBURG - ECPv6.15.14//NONSGML v1.0//EN
CALSCALE:GREGORIAN
METHOD:PUBLISH
X-WR-CALNAME:aspekte SALZBURG
X-ORIGINAL-URL:https://aspekte-salzburg.com
X-WR-CALDESC:Veranstaltungen für aspekte SALZBURG
REFRESH-INTERVAL;VALUE=DURATION:PT1H
X-Robots-Tag:noindex
X-PUBLISHED-TTL:PT1H
BEGIN:VTIMEZONE
TZID:Europe/Paris
BEGIN:DAYLIGHT
TZOFFSETFROM:+0100
TZOFFSETTO:+0200
TZNAME:CEST
DTSTART:19850331T010000
END:DAYLIGHT
BEGIN:STANDARD
TZOFFSETFROM:+0200
TZOFFSETTO:+0100
TZNAME:CET
DTSTART:19850929T010000
END:STANDARD
BEGIN:DAYLIGHT
TZOFFSETFROM:+0100
TZOFFSETTO:+0200
TZNAME:CEST
DTSTART:19860330T010000
END:DAYLIGHT
BEGIN:STANDARD
TZOFFSETFROM:+0200
TZOFFSETTO:+0100
TZNAME:CET
DTSTART:19860928T010000
END:STANDARD
BEGIN:DAYLIGHT
TZOFFSETFROM:+0100
TZOFFSETTO:+0200
TZNAME:CEST
DTSTART:19870329T010000
END:DAYLIGHT
BEGIN:STANDARD
TZOFFSETFROM:+0200
TZOFFSETTO:+0100
TZNAME:CET
DTSTART:19870927T010000
END:STANDARD
END:VTIMEZONE
BEGIN:VEVENT
DTSTART;TZID=Europe/Paris:19860509T220000
DTEND;TZID=Europe/Paris:19860509T220000
DTSTAMP:20260421T104648
CREATED:20191118T151001Z
LAST-MODIFIED:20251120T161450Z
UID:2582-516060000-516060000@aspekte-salzburg.com
SUMMARY:Konzert VI
DESCRIPTION:Programm\nChristian Wolff\, For 1\, 2 or 3 people (1964) \nChristian Clozier\, Markarian 205 \nFrancoise Barriere\, Sches des Voyages d’Ulysse \nGeorg Katzer\, La FIute fait le jeu \nGiacinto Scelsi\, Ko-THA\nGitarre solo (1967) \n  \nMitwirkende\nGROUPE DE MUSIQUE EXPERIMENALE DE BOURGES \nJean-Claude Le Duc\, Installation und techn. Leitung \nHarald Lillmeyer\, Gitarre \n 
URL:https://aspekte-salzburg.com/konzert/konzert-vi-28/
LOCATION:Künstlerhaus\, Hellbrunner Str. 3\, Salzburg\, 5020
END:VEVENT
END:VCALENDAR