BEGIN:VCALENDAR
VERSION:2.0
PRODID:-//aspekte SALZBURG - ECPv6.15.14//NONSGML v1.0//EN
CALSCALE:GREGORIAN
METHOD:PUBLISH
X-WR-CALNAME:aspekte SALZBURG
X-ORIGINAL-URL:https://aspekte-salzburg.com
X-WR-CALDESC:Veranstaltungen für aspekte SALZBURG
REFRESH-INTERVAL;VALUE=DURATION:PT1H
X-Robots-Tag:noindex
X-PUBLISHED-TTL:PT1H
BEGIN:VTIMEZONE
TZID:Europe/Paris
BEGIN:DAYLIGHT
TZOFFSETFROM:+0100
TZOFFSETTO:+0200
TZNAME:CEST
DTSTART:20010325T010000
END:DAYLIGHT
BEGIN:STANDARD
TZOFFSETFROM:+0200
TZOFFSETTO:+0100
TZNAME:CET
DTSTART:20011028T010000
END:STANDARD
BEGIN:DAYLIGHT
TZOFFSETFROM:+0100
TZOFFSETTO:+0200
TZNAME:CEST
DTSTART:20020331T010000
END:DAYLIGHT
BEGIN:STANDARD
TZOFFSETFROM:+0200
TZOFFSETTO:+0100
TZNAME:CET
DTSTART:20021027T010000
END:STANDARD
BEGIN:DAYLIGHT
TZOFFSETFROM:+0100
TZOFFSETTO:+0200
TZNAME:CEST
DTSTART:20030330T010000
END:DAYLIGHT
BEGIN:STANDARD
TZOFFSETFROM:+0200
TZOFFSETTO:+0100
TZNAME:CET
DTSTART:20031026T010000
END:STANDARD
END:VTIMEZONE
BEGIN:VEVENT
DTSTART;TZID=Europe/Paris:20020228T190000
DTEND;TZID=Europe/Paris:20020228T190000
DTSTAMP:20260421T104605
CREATED:20190725T123806Z
LAST-MODIFIED:20251120T160038Z
UID:1792-1014922800-1014922800@aspekte-salzburg.com
SUMMARY:Konzert VI
DESCRIPTION:Programm\nAlfred Schnittke\, Sonate I (1963)\nfür Violine und Klavier \nFranco Donatoni\, Ciclio (1993)\nfür Flöte und Violine \nEnrico Correggia\, … nei puro farsi sereno (1996)\nfür Violine und Klavier \nSalvatore Sciarrino\, All’aure in una lontananza (1977)\nfür Flöte \nJohanna Doderer\, Silence (2000/01)\nfür Violine und Klavier \nEnrico Correggia\, Voli 2 (2002)\nfür Flöte\, Violine und Klavier \n  \nMitwirkende\nEnsemble Europeo Antidogma\nMichele Mo\, Flöte\nLeonardo Boero; Violine\nMarinella Tarenghi\, Klavier
URL:https://aspekte-salzburg.com/konzert/konzert-vi-3/
LOCATION:SEAD\, Schallmoser Hauptstr. 48\, Salzburg\, 5020
END:VEVENT
END:VCALENDAR