BEGIN:VCALENDAR
VERSION:2.0
PRODID:-//aspekte SALZBURG - ECPv6.15.14//NONSGML v1.0//EN
CALSCALE:GREGORIAN
METHOD:PUBLISH
X-WR-CALNAME:aspekte SALZBURG
X-ORIGINAL-URL:https://aspekte-salzburg.com
X-WR-CALDESC:Veranstaltungen für aspekte SALZBURG
REFRESH-INTERVAL;VALUE=DURATION:PT1H
X-Robots-Tag:noindex
X-PUBLISHED-TTL:PT1H
BEGIN:VTIMEZONE
TZID:Europe/Paris
BEGIN:DAYLIGHT
TZOFFSETFROM:+0100
TZOFFSETTO:+0200
TZNAME:CEST
DTSTART:19990328T010000
END:DAYLIGHT
BEGIN:STANDARD
TZOFFSETFROM:+0200
TZOFFSETTO:+0100
TZNAME:CET
DTSTART:19991031T010000
END:STANDARD
BEGIN:DAYLIGHT
TZOFFSETFROM:+0100
TZOFFSETTO:+0200
TZNAME:CEST
DTSTART:20000326T010000
END:DAYLIGHT
BEGIN:STANDARD
TZOFFSETFROM:+0200
TZOFFSETTO:+0100
TZNAME:CET
DTSTART:20001029T010000
END:STANDARD
BEGIN:DAYLIGHT
TZOFFSETFROM:+0100
TZOFFSETTO:+0200
TZNAME:CEST
DTSTART:20010325T010000
END:DAYLIGHT
BEGIN:STANDARD
TZOFFSETFROM:+0200
TZOFFSETTO:+0100
TZNAME:CET
DTSTART:20011028T010000
END:STANDARD
END:VTIMEZONE
BEGIN:VEVENT
DTSTART;TZID=Europe/Paris:20000305T190000
DTEND;TZID=Europe/Paris:20000305T190000
DTSTAMP:20260421T104613
CREATED:20190729T104634Z
LAST-MODIFIED:20251120T160119Z
UID:1837-952282800-952282800@aspekte-salzburg.com
SUMMARY:Konzert VI
DESCRIPTION:Programm\nGiya Kancheli (*1935)\, Aus dem Zyklus Life without Christmas (1990-92/95) \nMorning Prayers (1990)\, für Kammerorchester und Tonband (A. Schnittke gewidmet)\nQui diligitis Dominum\, odite malum. Domine\, exaudi vocem meam \nMidday Prayers (1991)\, für 19 Instrumentalisten\, Knabenstimme und Soloklarinette (E. Brunner gewidmet)\nDeus\, Deus meus\, respice in me: Quare me dereliquisti? Ad te\, Domine\, levavi animam meam \nSinfonie Nr. 6 (1980)\, für großes Orchester \n  \nMitwirkende\nSinfonieorchester der Universität Mozarteum Salzburg \nDennis Rusell Davies\, Dirigent
URL:https://aspekte-salzburg.com/konzert/konzert-vi-5/
LOCATION:Großes Studio\, Universität Mozarteum\, Mirabellplatz 1\, Salzburg\, 5020
END:VEVENT
END:VCALENDAR