BEGIN:VCALENDAR
VERSION:2.0
PRODID:-//aspekte SALZBURG - ECPv6.15.14//NONSGML v1.0//EN
CALSCALE:GREGORIAN
METHOD:PUBLISH
X-WR-CALNAME:aspekte SALZBURG
X-ORIGINAL-URL:https://aspekte-salzburg.com
X-WR-CALDESC:Veranstaltungen für aspekte SALZBURG
REFRESH-INTERVAL;VALUE=DURATION:PT1H
X-Robots-Tag:noindex
X-PUBLISHED-TTL:PT1H
BEGIN:VTIMEZONE
TZID:Europe/Paris
BEGIN:DAYLIGHT
TZOFFSETFROM:+0100
TZOFFSETTO:+0200
TZNAME:CEST
DTSTART:19980329T010000
END:DAYLIGHT
BEGIN:STANDARD
TZOFFSETFROM:+0200
TZOFFSETTO:+0100
TZNAME:CET
DTSTART:19981025T010000
END:STANDARD
BEGIN:DAYLIGHT
TZOFFSETFROM:+0100
TZOFFSETTO:+0200
TZNAME:CEST
DTSTART:19990328T010000
END:DAYLIGHT
BEGIN:STANDARD
TZOFFSETFROM:+0200
TZOFFSETTO:+0100
TZNAME:CET
DTSTART:19991031T010000
END:STANDARD
BEGIN:DAYLIGHT
TZOFFSETFROM:+0100
TZOFFSETTO:+0200
TZNAME:CEST
DTSTART:20000326T010000
END:DAYLIGHT
BEGIN:STANDARD
TZOFFSETFROM:+0200
TZOFFSETTO:+0100
TZNAME:CET
DTSTART:20001029T010000
END:STANDARD
END:VTIMEZONE
BEGIN:VEVENT
DTSTART;TZID=Europe/Paris:19990514T210000
DTEND;TZID=Europe/Paris:19990514T210000
DTSTAMP:20260421T120011
CREATED:20190730T072817Z
LAST-MODIFIED:20251120T160208Z
UID:1862-926715600-926715600@aspekte-salzburg.com
SUMMARY:Konzert VI
DESCRIPTION:Programm\nSylvano Bussotti\, Il Preludio (1994)\nfür Piano Solo \nSylvano Bussotti\, Musica per amici (1957-71)\nfür Piano und Tanz (Choreographie von Gi. Vantaggio – rekonstruiert von Rocco) \nSylvano Bussotti\, Bartok-Busoni\, Caprice des 34. Microkosmos (1995)\nfür Piano Solo \nSylvano Bussotti\, Brilliante (1975)\nfür Piano und Tanz (Choreographie von Gi. Vantaggio – rekonstruiert von Rocco) \nSylvano Bussotti\, Sonatina Gioacchina (1995)\nfür Piano Solo \nSylvano Bussotti\, Piano pieces for David Tudor (1959)\, Nr. 1\, 4 und 3\nfür Piano und Tanz \n  \nMitwirkende\nToni Candeloro\, Tanz \nMartine Joste\, Klavier
URL:https://aspekte-salzburg.com/konzert/konzert-vi-6/
LOCATION:Orchesterhaus\, Erzbischof-Gebhard-Straße 10\, Salzburg\, 5020
END:VEVENT
END:VCALENDAR