BEGIN:VCALENDAR
VERSION:2.0
PRODID:-//aspekte SALZBURG - ECPv6.15.14//NONSGML v1.0//EN
CALSCALE:GREGORIAN
METHOD:PUBLISH
X-WR-CALNAME:aspekte SALZBURG
X-ORIGINAL-URL:https://aspekte-salzburg.com
X-WR-CALDESC:Veranstaltungen für aspekte SALZBURG
REFRESH-INTERVAL;VALUE=DURATION:PT1H
X-Robots-Tag:noindex
X-PUBLISHED-TTL:PT1H
BEGIN:VTIMEZONE
TZID:Europe/Paris
BEGIN:DAYLIGHT
TZOFFSETFROM:+0100
TZOFFSETTO:+0200
TZNAME:CEST
DTSTART:19960331T010000
END:DAYLIGHT
BEGIN:STANDARD
TZOFFSETFROM:+0200
TZOFFSETTO:+0100
TZNAME:CET
DTSTART:19961027T010000
END:STANDARD
BEGIN:DAYLIGHT
TZOFFSETFROM:+0100
TZOFFSETTO:+0200
TZNAME:CEST
DTSTART:19970330T010000
END:DAYLIGHT
BEGIN:STANDARD
TZOFFSETFROM:+0200
TZOFFSETTO:+0100
TZNAME:CET
DTSTART:19971026T010000
END:STANDARD
BEGIN:DAYLIGHT
TZOFFSETFROM:+0100
TZOFFSETTO:+0200
TZNAME:CEST
DTSTART:19980329T010000
END:DAYLIGHT
BEGIN:STANDARD
TZOFFSETFROM:+0200
TZOFFSETTO:+0100
TZNAME:CET
DTSTART:19981025T010000
END:STANDARD
END:VTIMEZONE
BEGIN:VEVENT
DTSTART;TZID=Europe/Paris:19970530T190000
DTEND;TZID=Europe/Paris:19970530T190000
DTSTAMP:20260421T104612
CREATED:20190731T084150Z
LAST-MODIFIED:20251120T160330Z
UID:1910-865018800-865018800@aspekte-salzburg.com
SUMMARY:Konzert VI
DESCRIPTION:Programm\nLiviu Danceanu\, Quasiopera\, op. 38 (1987)\nMusikalische Performance in 2 Akten\nfür 8 Interpreten \n  \nMitwirkende\nAnca Vartolomei\, Violoncello \nRodica Danceanu\, Klavier \nVasile Mocioc\, Klarinette \nSerban Novac\, Fagott \nAlexandru Matei\, Schlagzeug \nMarius Lacraru\, Violine \nMihai Cojocahu\, Gitarre \nViohica Petrovici\, Bühnenbild \nLiviu Danceanu\, Mandoline/Musikalische Leitung \nSteliana Calos\, Mezzosopran \n 
URL:https://aspekte-salzburg.com/konzert/konzert-vi-8/
LOCATION:Großes Studio\, Universität Mozarteum\, Mirabellplatz 1\, Salzburg\, 5020
END:VEVENT
END:VCALENDAR