BEGIN:VCALENDAR
VERSION:2.0
PRODID:-//aspekte SALZBURG - ECPv6.15.14//NONSGML v1.0//EN
CALSCALE:GREGORIAN
METHOD:PUBLISH
X-WR-CALNAME:aspekte SALZBURG
X-ORIGINAL-URL:https://aspekte-salzburg.com
X-WR-CALDESC:Veranstaltungen für aspekte SALZBURG
REFRESH-INTERVAL;VALUE=DURATION:PT1H
X-Robots-Tag:noindex
X-PUBLISHED-TTL:PT1H
BEGIN:VTIMEZONE
TZID:Europe/Paris
BEGIN:DAYLIGHT
TZOFFSETFROM:+0100
TZOFFSETTO:+0200
TZNAME:CEST
DTSTART:20050327T010000
END:DAYLIGHT
BEGIN:STANDARD
TZOFFSETFROM:+0200
TZOFFSETTO:+0100
TZNAME:CET
DTSTART:20051030T010000
END:STANDARD
BEGIN:DAYLIGHT
TZOFFSETFROM:+0100
TZOFFSETTO:+0200
TZNAME:CEST
DTSTART:20060326T010000
END:DAYLIGHT
BEGIN:STANDARD
TZOFFSETFROM:+0200
TZOFFSETTO:+0100
TZNAME:CET
DTSTART:20061029T010000
END:STANDARD
BEGIN:DAYLIGHT
TZOFFSETFROM:+0100
TZOFFSETTO:+0200
TZNAME:CEST
DTSTART:20070325T010000
END:DAYLIGHT
BEGIN:STANDARD
TZOFFSETFROM:+0200
TZOFFSETTO:+0100
TZNAME:CET
DTSTART:20071028T010000
END:STANDARD
END:VTIMEZONE
BEGIN:VEVENT
DTSTART;TZID=Europe/Paris:20060210T190000
DTEND;TZID=Europe/Paris:20060210T190000
DTSTAMP:20260421T104910
CREATED:20190723T072638Z
LAST-MODIFIED:20251120T155752Z
UID:1688-1139598000-1139598000@aspekte-salzburg.com
SUMMARY:Konzert VI | Aspekte New Music Ensemble
DESCRIPTION:Programm\nSalvatore Sciarrino\, Il tempo con l’obelisco\nfür Flöte\, Klarinette\, Fagott\, Violine\, Viola\, Violoncello \nTappio Lappalainen\, Goggling Tulips of the Evening\nfür Bariton und Ensemble \nAndrus Kallastu\, Streichquartett \nRuben Sverre Gjertsen\, \nRituals II (2002)\, für Bassflöte\, Bassklarinette\, Trompete\, Posaune\, Violine\, Viola\, Violoncello\, Percussion\nMiniatures III (2000)\, für Violine und Klavier\nMiniatures II (1999)\, für Posaune und Percussion \nJeppe Just Christensen\, Ground vol. 3 (2004)\nfür Violine\, Viola\, Violoncello und Klavier \nBenjamin Staern\, Vier Farben\nfür Flöte\, Klarinette\, Percussion\, Viola\, Violoncello \n  \nMitwirkende\nAspekte New Music Ensemble\nTheodor Birkali\, Klarinette\nRizumu Sugishita\, Schlagwerk\nPer Rundberg\, Klavier \nJoanna Kamenarska\, Violine\nZsuzsa Debre\, Violine\nJutas Javorka\, Viola\nChih Hui Chang\, Violoncello \nGavin Talor\, Bariton\nKai Röhrig\, Leitung
URL:https://aspekte-salzburg.com/konzert/konzert-vi-aspekte-new-music-ensemble/
LOCATION:Große Aula\, Universität Salzburg\, Hofstallgasse 2-4\, Salzburg\, 5020
END:VEVENT
END:VCALENDAR