BEGIN:VCALENDAR
VERSION:2.0
PRODID:-//aspekte SALZBURG - ECPv6.15.14//NONSGML v1.0//EN
CALSCALE:GREGORIAN
METHOD:PUBLISH
X-WR-CALNAME:aspekte SALZBURG
X-ORIGINAL-URL:https://aspekte-salzburg.com
X-WR-CALDESC:Veranstaltungen für aspekte SALZBURG
REFRESH-INTERVAL;VALUE=DURATION:PT1H
X-Robots-Tag:noindex
X-PUBLISHED-TTL:PT1H
BEGIN:VTIMEZONE
TZID:Europe/Paris
BEGIN:DAYLIGHT
TZOFFSETFROM:+0100
TZOFFSETTO:+0200
TZNAME:CEST
DTSTART:20090329T010000
END:DAYLIGHT
BEGIN:STANDARD
TZOFFSETFROM:+0200
TZOFFSETTO:+0100
TZNAME:CET
DTSTART:20091025T010000
END:STANDARD
BEGIN:DAYLIGHT
TZOFFSETFROM:+0100
TZOFFSETTO:+0200
TZNAME:CEST
DTSTART:20100328T010000
END:DAYLIGHT
BEGIN:STANDARD
TZOFFSETFROM:+0200
TZOFFSETTO:+0100
TZNAME:CET
DTSTART:20101031T010000
END:STANDARD
BEGIN:DAYLIGHT
TZOFFSETFROM:+0100
TZOFFSETTO:+0200
TZNAME:CEST
DTSTART:20110327T010000
END:DAYLIGHT
BEGIN:STANDARD
TZOFFSETFROM:+0200
TZOFFSETTO:+0100
TZNAME:CET
DTSTART:20111030T010000
END:STANDARD
END:VTIMEZONE
BEGIN:VEVENT
DTSTART;TZID=Europe/Paris:20100529T160000
DTEND;TZID=Europe/Paris:20100529T160000
DTSTAMP:20260421T104911
CREATED:20190718T095857Z
LAST-MODIFIED:20260119T151519Z
UID:1629-1275148800-1275148800@aspekte-salzburg.com
SUMMARY:Konzert VI | Jugend komponiert - Sonderkonzert
DESCRIPTION:Programm\n  \nGregor Hanke (*1990)\, Quartett (UA)\n// Interpreten //\nGregor Hanke \n  \nAaron Copland (1900-1990)\, The cat and the mouse\, Scherzo humoristique for piano (1920) \n  \nGyörgy Kurtág (*1926)\, Örkömozgo. Perpetuum mobile aus Játékok (Spiele für Klavier\, 1975)\n// Interpreten //\nAnne-Catherine Radauer-Plank\, Klavier \n  \nDaniel Muck (*1990)\, Oraculum Apollonis I / Gyges II (UA) \n  \nPèteris Vasks (*1946)\, Aus: Gramata cellam\, das Buch für Violoncello solo\, 2. Satz (1978)\nPianissimo: Dolcissimo – Andante cantabile\n// Interpreten //\nMarianne Herzig\, Violoncello \n  \nPhilipp Gutmann (*1993)\, Ruhm und Ehre- ein Streichquartett in d-Moll (UA) \n  \nLuciano Berio (1925-2003) Aus: \n6 Encores pour pianoLuftklavier (1985)\n// Interpreten //\nAnton Dzido\, Klavier \nFeuerklavier (1989)\n// Interpreten //\nMatej Dzido\, Klavier \n  \nPatrick Hahn (*1995)\, Kulissenwechsel (UA) \n  \nArvo Pärt (*1935)\, Fratres. Legato (1977)\n// Interpreten //\nZuher Khalaf\, Violine\nAssil Khalaf\, Klavier \n  \nPaul Schuberth (*1994)\, Landschaften (UA)\nThe keen ones (Savanne\, Steppe\, Vulkan\, Auf der Wiese\, Au)\nThe subtle ones (Tundra\, Fjell\, Gletscher\, Wald)\nThe strong ones (Wüste\, Stadt\, Wolken) \n  \nAnastasia Daria Welitschko (*1993)\, Zeitensplitter (UA)\n// Interpreten //\nAnastasia Daria Welitschko\, Klavier \n  \nFlora Geißelbrecht (*1994)\, Streichquartett in X (UA) \n  \nGyörgy Kurtág\, Tre Pezzi per violino e pianoforte op. 14e (1979)\nÖd und traurig – Vivo – Aus der Ferne\n// Interpreten //\nAlexandra Moser\, Violine\nHyeon Jun-Jo\, Klavier \n  \nPèteris Plakidis\, Distant Song (2008) Sostenuto / Flessibile\n// Interpreten //\nAnna Stockhammer\, Klavier \n  \nAlexandre Lunsqui (*1969)\, Tempo absurd\, für Klavier \n  \nJakob Gruchmann (*1991)\, Trio Tribus Triplex\n(Uraufführung\, Auftragswerk der Aspekte Salzburg)\nCon Rirgore\nIdilliaco\nTempestosamente\n// Interpreten //\nMaria Holzer-Graf\, Violine\nJulia Hagen\, Violoncello\nChristina Scheicher\, Klavier \n\nMitwirkende\n  \nVersus Quartet\nBozena Angelova\, Violine\nDaniel Migdal\, Violine\nMark Braithwaite\, Viola\nGregor Fele\, Violoncello \n 
URL:https://aspekte-salzburg.com/konzert/konzert-vi-jugend-komponiert-sonderkonzert/
LOCATION:Stiftung Mozarteum\, Großer Saal\, Schwarzstraße 28\, Salzburg\, 5020
CATEGORIES:Spielräume
END:VEVENT
END:VCALENDAR