BEGIN:VCALENDAR
VERSION:2.0
PRODID:-//aspekte SALZBURG - ECPv6.15.14//NONSGML v1.0//EN
CALSCALE:GREGORIAN
METHOD:PUBLISH
X-WR-CALNAME:aspekte SALZBURG
X-ORIGINAL-URL:https://aspekte-salzburg.com
X-WR-CALDESC:Veranstaltungen für aspekte SALZBURG
REFRESH-INTERVAL;VALUE=DURATION:PT1H
X-Robots-Tag:noindex
X-PUBLISHED-TTL:PT1H
BEGIN:VTIMEZONE
TZID:Europe/Paris
BEGIN:DAYLIGHT
TZOFFSETFROM:+0100
TZOFFSETTO:+0200
TZNAME:CEST
DTSTART:20020331T010000
END:DAYLIGHT
BEGIN:STANDARD
TZOFFSETFROM:+0200
TZOFFSETTO:+0100
TZNAME:CET
DTSTART:20021027T010000
END:STANDARD
BEGIN:DAYLIGHT
TZOFFSETFROM:+0100
TZOFFSETTO:+0200
TZNAME:CEST
DTSTART:20030330T010000
END:DAYLIGHT
BEGIN:STANDARD
TZOFFSETFROM:+0200
TZOFFSETTO:+0100
TZNAME:CET
DTSTART:20031026T010000
END:STANDARD
BEGIN:DAYLIGHT
TZOFFSETFROM:+0100
TZOFFSETTO:+0200
TZNAME:CEST
DTSTART:20040328T010000
END:DAYLIGHT
BEGIN:STANDARD
TZOFFSETFROM:+0200
TZOFFSETTO:+0100
TZNAME:CET
DTSTART:20041031T010000
END:STANDARD
END:VTIMEZONE
BEGIN:VEVENT
DTSTART;TZID=Europe/Paris:20030301T190000
DTEND;TZID=Europe/Paris:20030301T190000
DTSTAMP:20260421T115752
CREATED:20190724T074029Z
LAST-MODIFIED:20251120T155951Z
UID:1736-1046545200-1046545200@aspekte-salzburg.com
SUMMARY:Konzert VI
DESCRIPTION:Programm\nDyörgy Ligeti\, Sonate für Violoncello solo (1948-53)\nI Dialogo\nII Capriccio \nJoan Guinjoan\, Elagia (Monodia) (1996) \nTomàs Garrido\, Sonatw „de Lamentazione”\nAleph\nBeth\nGhimel \nMichel Sendrez\, OIHU (1997) \nBruno Ducol\, Incantations (1987) \nGeorge Crumb\, Sonate für Violoncello solo (1955)\nAndante espressivo e con molto rubato\nTema pastorale con variazioni\nToccata \n  \nMitwirkende\nLluis Claret\, Violoncello
URL:https://aspekte-salzburg.com/konzert/konzert-vi/
LOCATION:Wiener Saal\, Stiftung Mozarteum\, Schwarzstraße 26\, Salzburg\, 5020
END:VEVENT
END:VCALENDAR