BEGIN:VCALENDAR
VERSION:2.0
PRODID:-//aspekte SALZBURG - ECPv6.15.14//NONSGML v1.0//EN
CALSCALE:GREGORIAN
METHOD:PUBLISH
X-WR-CALNAME:aspekte SALZBURG
X-ORIGINAL-URL:https://aspekte-salzburg.com
X-WR-CALDESC:Veranstaltungen für aspekte SALZBURG
REFRESH-INTERVAL;VALUE=DURATION:PT1H
X-Robots-Tag:noindex
X-PUBLISHED-TTL:PT1H
BEGIN:VTIMEZONE
TZID:Europe/Paris
BEGIN:DAYLIGHT
TZOFFSETFROM:+0100
TZOFFSETTO:+0200
TZNAME:CEST
DTSTART:19890326T010000
END:DAYLIGHT
BEGIN:STANDARD
TZOFFSETFROM:+0200
TZOFFSETTO:+0100
TZNAME:CET
DTSTART:19890924T010000
END:STANDARD
BEGIN:DAYLIGHT
TZOFFSETFROM:+0100
TZOFFSETTO:+0200
TZNAME:CEST
DTSTART:19900325T010000
END:DAYLIGHT
BEGIN:STANDARD
TZOFFSETFROM:+0200
TZOFFSETTO:+0100
TZNAME:CET
DTSTART:19900930T010000
END:STANDARD
BEGIN:DAYLIGHT
TZOFFSETFROM:+0100
TZOFFSETTO:+0200
TZNAME:CEST
DTSTART:19910331T010000
END:DAYLIGHT
BEGIN:STANDARD
TZOFFSETFROM:+0200
TZOFFSETTO:+0100
TZNAME:CET
DTSTART:19910929T010000
END:STANDARD
END:VTIMEZONE
BEGIN:VEVENT
DTSTART;TZID=Europe/Paris:19900613T200000
DTEND;TZID=Europe/Paris:19900613T200000
DTSTAMP:20260421T120044
CREATED:20190809T072745Z
LAST-MODIFIED:20251120T161040Z
UID:2125-645307200-645307200@aspekte-salzburg.com
SUMMARY:Konzert VII
DESCRIPTION:Programm\nAlicia Terzian\, Buenos Aires me vas a matar (1990\, UA)\nfür Klavier und Tonband \nBetsy Jolas\, Music for Joan (1988\, ÖE)\nfür Klavier und Vibraphon \nSuzanne Giraud\, L’oeil et le jour (1990\, UA)\nfür Schlagzeug \nSylvia Hallett\, Lonely Atoms (1988)\nfür Klavier und Tonband \nYounghi Pagh Paan\, Pyon-Kyong (1982)\nfür Klavier und Schlagzeug \n  \nMitwirkende\nUrsula Kneihs\, Klavier \nThierry Miroglio\, Schlagzeug
URL:https://aspekte-salzburg.com/konzert/konzert-vii-15/
LOCATION:Künstlerhaus\, Hellbrunner Str. 3\, Salzburg\, 5020
END:VEVENT
END:VCALENDAR