BEGIN:VCALENDAR
VERSION:2.0
PRODID:-//aspekte SALZBURG - ECPv6.15.14//NONSGML v1.0//EN
CALSCALE:GREGORIAN
METHOD:PUBLISH
X-WR-CALNAME:aspekte SALZBURG
X-ORIGINAL-URL:https://aspekte-salzburg.com
X-WR-CALDESC:Veranstaltungen für aspekte SALZBURG
REFRESH-INTERVAL;VALUE=DURATION:PT1H
X-Robots-Tag:noindex
X-PUBLISHED-TTL:PT1H
BEGIN:VTIMEZONE
TZID:Europe/Paris
BEGIN:DAYLIGHT
TZOFFSETFROM:+0100
TZOFFSETTO:+0200
TZNAME:CEST
DTSTART:19880327T010000
END:DAYLIGHT
BEGIN:STANDARD
TZOFFSETFROM:+0200
TZOFFSETTO:+0100
TZNAME:CET
DTSTART:19880925T010000
END:STANDARD
BEGIN:DAYLIGHT
TZOFFSETFROM:+0100
TZOFFSETTO:+0200
TZNAME:CEST
DTSTART:19890326T010000
END:DAYLIGHT
BEGIN:STANDARD
TZOFFSETFROM:+0200
TZOFFSETTO:+0100
TZNAME:CET
DTSTART:19890924T010000
END:STANDARD
BEGIN:DAYLIGHT
TZOFFSETFROM:+0100
TZOFFSETTO:+0200
TZNAME:CEST
DTSTART:19900325T010000
END:DAYLIGHT
BEGIN:STANDARD
TZOFFSETFROM:+0200
TZOFFSETTO:+0100
TZNAME:CET
DTSTART:19900930T010000
END:STANDARD
END:VTIMEZONE
BEGIN:VEVENT
DTSTART;TZID=Europe/Paris:19890503T200000
DTEND;TZID=Europe/Paris:19890503T200000
DTSTAMP:20260421T110002
CREATED:20190813T101923Z
LAST-MODIFIED:20251120T161145Z
UID:2156-610228800-610228800@aspekte-salzburg.com
SUMMARY:Konzert VII
DESCRIPTION:Programm\nSylvano Busotti\, Nibbio (1987) \nSalvatore Sciarrino\, Esploratione del bianco I (1986) \nPaolo Perezzani\, Intimi voli (1987) \nAlessandro Melchiorre\, Hermes ctonios (1989) \nStefano Scodanibbio\, Strumentale (1980) \nKlaus H. Stahmer\, Le solitaire \nKlaus Ager\, In the fair\, fine night \nFranco Donatoni\, Omar \nAldo Brizzi\, De la trasmutazione de metalli IV \n  \nMitwirkende\nStefano Scodanibbio\, Kontrabass \nThierry Miroglio\, Schlagwerk
URL:https://aspekte-salzburg.com/konzert/konzert-vii-16/
LOCATION:Künstlerhaus\, Hellbrunner Str. 3\, Salzburg\, 5020
END:VEVENT
END:VCALENDAR