BEGIN:VCALENDAR
VERSION:2.0
PRODID:-//aspekte SALZBURG - ECPv6.15.14//NONSGML v1.0//EN
CALSCALE:GREGORIAN
METHOD:PUBLISH
X-WR-CALNAME:aspekte SALZBURG
X-ORIGINAL-URL:https://aspekte-salzburg.com
X-WR-CALDESC:Veranstaltungen für aspekte SALZBURG
REFRESH-INTERVAL;VALUE=DURATION:PT1H
X-Robots-Tag:noindex
X-PUBLISHED-TTL:PT1H
BEGIN:VTIMEZONE
TZID:Europe/Paris
BEGIN:DAYLIGHT
TZOFFSETFROM:+0100
TZOFFSETTO:+0200
TZNAME:CEST
DTSTART:19810329T010000
END:DAYLIGHT
BEGIN:STANDARD
TZOFFSETFROM:+0200
TZOFFSETTO:+0100
TZNAME:CET
DTSTART:19810927T010000
END:STANDARD
BEGIN:DAYLIGHT
TZOFFSETFROM:+0100
TZOFFSETTO:+0200
TZNAME:CEST
DTSTART:19820328T010000
END:DAYLIGHT
BEGIN:STANDARD
TZOFFSETFROM:+0200
TZOFFSETTO:+0100
TZNAME:CET
DTSTART:19820926T010000
END:STANDARD
BEGIN:DAYLIGHT
TZOFFSETFROM:+0100
TZOFFSETTO:+0200
TZNAME:CEST
DTSTART:19830327T010000
END:DAYLIGHT
BEGIN:STANDARD
TZOFFSETFROM:+0200
TZOFFSETTO:+0100
TZNAME:CET
DTSTART:19830925T010000
END:STANDARD
END:VTIMEZONE
BEGIN:VEVENT
DTSTART;TZID=Europe/Paris:19820522T210000
DTEND;TZID=Europe/Paris:19820522T210000
DTSTAMP:20260421T120020
CREATED:20190826T115407Z
LAST-MODIFIED:20251120T152727Z
UID:2344-390949200-390949200@aspekte-salzburg.com
SUMMARY:Konzert VII
DESCRIPTION:Programm\nGuy Reibel\, 5ième étude aux modulations \nHans Werner Henze\, Tirsi\, Mopso\, Artisteo (1977)\nSonate für Violine Solo \nGuy Reibel\, Continuo (1968) \nYannis A. Papaioannou\, Ichomorfés \nGuy Reibel\, Granulations-Sillages \nNikolai Badinski\, Cottidianus (1977\, UA) \nGuy Reibel\, Ombres – Suite pour Edgar Poe \nGrazyna Bacewicz\, Sonata per violino solo (1958) \n  \nMitwirkende\nGuy Reibel\, Präsentation \nJenny Abel\, Violine
URL:https://aspekte-salzburg.com/konzert/konzert-vii-22/
LOCATION:Künstlerhaus\, Hellbrunner Str. 3\, Salzburg\, 5020
END:VEVENT
END:VCALENDAR