BEGIN:VCALENDAR
VERSION:2.0
PRODID:-//aspekte SALZBURG - ECPv6.15.14//NONSGML v1.0//EN
CALSCALE:GREGORIAN
METHOD:PUBLISH
X-WR-CALNAME:aspekte SALZBURG
X-ORIGINAL-URL:https://aspekte-salzburg.com
X-WR-CALDESC:Veranstaltungen für aspekte SALZBURG
REFRESH-INTERVAL;VALUE=DURATION:PT1H
X-Robots-Tag:noindex
X-PUBLISHED-TTL:PT1H
BEGIN:VTIMEZONE
TZID:Europe/Paris
BEGIN:DAYLIGHT
TZOFFSETFROM:+0100
TZOFFSETTO:+0200
TZNAME:CEST
DTSTART:19790401T010000
END:DAYLIGHT
BEGIN:STANDARD
TZOFFSETFROM:+0200
TZOFFSETTO:+0100
TZNAME:CET
DTSTART:19790930T010000
END:STANDARD
BEGIN:DAYLIGHT
TZOFFSETFROM:+0100
TZOFFSETTO:+0200
TZNAME:CEST
DTSTART:19800406T010000
END:DAYLIGHT
BEGIN:STANDARD
TZOFFSETFROM:+0200
TZOFFSETTO:+0100
TZNAME:CET
DTSTART:19800928T010000
END:STANDARD
BEGIN:DAYLIGHT
TZOFFSETFROM:+0100
TZOFFSETTO:+0200
TZNAME:CEST
DTSTART:19810329T010000
END:DAYLIGHT
BEGIN:STANDARD
TZOFFSETFROM:+0200
TZOFFSETTO:+0100
TZNAME:CET
DTSTART:19810927T010000
END:STANDARD
END:VTIMEZONE
BEGIN:VEVENT
DTSTART;TZID=Europe/Paris:19800607T213000
DTEND;TZID=Europe/Paris:19800607T213000
DTSTAMP:20260421T110002
CREATED:20190828T053118Z
LAST-MODIFIED:20251120T152542Z
UID:2389-329261400-329261400@aspekte-salzburg.com
SUMMARY:Konzert VII
DESCRIPTION:Programm\nJohn Grey/Robert Erickson\, New Loops \nTracy Petersen\, Everything & Nothing \nDexter Morrill\, Six Dark Questions \nMilton Babbitt\, Phonemena \nDexter Morrill\, Chowning \nDexter Morrill\, Lastel \nJames Moorer\, Lions are growing \nDexter Morrill\, Skit \nRobert Gross\, Love and only Love \n  \nMitwirkende\nDexter Morrill\, Präsentation und Klangregie \nNeva Pilgrim\, Sopran
URL:https://aspekte-salzburg.com/konzert/konzert-vii-24/
LOCATION:Künstlerhaus\, Hellbrunner Str. 3\, Salzburg\, 5020
END:VEVENT
END:VCALENDAR