BEGIN:VCALENDAR
VERSION:2.0
PRODID:-//aspekte SALZBURG - ECPv6.15.14//NONSGML v1.0//EN
CALSCALE:GREGORIAN
METHOD:PUBLISH
X-WR-CALNAME:aspekte SALZBURG
X-ORIGINAL-URL:https://aspekte-salzburg.com
X-WR-CALDESC:Veranstaltungen für aspekte SALZBURG
REFRESH-INTERVAL;VALUE=DURATION:PT1H
X-Robots-Tag:noindex
X-PUBLISHED-TTL:PT1H
BEGIN:VTIMEZONE
TZID:Europe/Paris
BEGIN:DAYLIGHT
TZOFFSETFROM:+0100
TZOFFSETTO:+0200
TZNAME:CEST
DTSTART:19770403T010000
END:DAYLIGHT
BEGIN:STANDARD
TZOFFSETFROM:+0200
TZOFFSETTO:+0100
TZNAME:CET
DTSTART:19770925T010000
END:STANDARD
BEGIN:DAYLIGHT
TZOFFSETFROM:+0100
TZOFFSETTO:+0200
TZNAME:CEST
DTSTART:19780402T010000
END:DAYLIGHT
BEGIN:STANDARD
TZOFFSETFROM:+0200
TZOFFSETTO:+0100
TZNAME:CET
DTSTART:19781001T010000
END:STANDARD
BEGIN:DAYLIGHT
TZOFFSETFROM:+0100
TZOFFSETTO:+0200
TZNAME:CEST
DTSTART:19790401T010000
END:DAYLIGHT
BEGIN:STANDARD
TZOFFSETFROM:+0200
TZOFFSETTO:+0100
TZNAME:CET
DTSTART:19790930T010000
END:STANDARD
END:VTIMEZONE
BEGIN:VEVENT
DTSTART;TZID=Europe/Paris:19780528T190000
DTEND;TZID=Europe/Paris:19780528T190000
DTSTAMP:20260421T104822
CREATED:20190828T083819Z
LAST-MODIFIED:20251120T152410Z
UID:2416-265230000-265230000@aspekte-salzburg.com
SUMMARY:Konzert VII
DESCRIPTION:Programm\nKlaus Ager\,\nBETA – Break Towards Infinity\nes esta la muerte? \nAndor Losonczy\,\nGrowth Structures\nBlack Box \n  \nMitwirkende\nSalzburger Kammerchor\nRupert Huber\, Leitung \noenm. österreichisches ensemble für neue musik\nKlaus Ager\, Leitung \nFerenc Tornai\, Klarinette/Saxophon\nCarol Bauer\, Klarinette\nGenro Hara\, Posaune\nAndor Losonczy\, Klavier/Celesta\nAnton Czjzek\, Klavier/Pianino\nRudolf Scchingerlin\, Schlagzeug\nW. A. Neulist\, Schlagzeug\nPeter Lefor\, Violine\nWilfried Brandl\, Kontrabass\nWolfgang Guttmann\, Gitarre
URL:https://aspekte-salzburg.com/konzert/konzert-vii-25/
LOCATION:Petersbrunnhof\, Erzabt-Klotz-Str. 22\, Salzburg\, 5020
END:VEVENT
END:VCALENDAR