BEGIN:VCALENDAR
VERSION:2.0
PRODID:-//aspekte SALZBURG - ECPv6.15.14//NONSGML v1.0//EN
CALSCALE:GREGORIAN
METHOD:PUBLISH
X-WR-CALNAME:aspekte SALZBURG
X-ORIGINAL-URL:https://aspekte-salzburg.com
X-WR-CALDESC:Veranstaltungen für aspekte SALZBURG
REFRESH-INTERVAL;VALUE=DURATION:PT1H
X-Robots-Tag:noindex
X-PUBLISHED-TTL:PT1H
BEGIN:VTIMEZONE
TZID:Europe/Paris
BEGIN:DAYLIGHT
TZOFFSETFROM:+0100
TZOFFSETTO:+0200
TZNAME:CEST
DTSTART:19950326T010000
END:DAYLIGHT
BEGIN:STANDARD
TZOFFSETFROM:+0200
TZOFFSETTO:+0100
TZNAME:CET
DTSTART:19950924T010000
END:STANDARD
BEGIN:DAYLIGHT
TZOFFSETFROM:+0100
TZOFFSETTO:+0200
TZNAME:CEST
DTSTART:19960331T010000
END:DAYLIGHT
BEGIN:STANDARD
TZOFFSETFROM:+0200
TZOFFSETTO:+0100
TZNAME:CET
DTSTART:19961027T010000
END:STANDARD
BEGIN:DAYLIGHT
TZOFFSETFROM:+0100
TZOFFSETTO:+0200
TZNAME:CEST
DTSTART:19970330T010000
END:DAYLIGHT
BEGIN:STANDARD
TZOFFSETFROM:+0200
TZOFFSETTO:+0100
TZNAME:CET
DTSTART:19971026T010000
END:STANDARD
END:VTIMEZONE
BEGIN:VEVENT
DTSTART;TZID=Europe/Paris:19960512T200000
DTEND;TZID=Europe/Paris:19960512T200000
DTSTAMP:20260421T104647
CREATED:20190731T121553Z
LAST-MODIFIED:20251120T160437Z
UID:1937-831931200-831931200@aspekte-salzburg.com
SUMMARY:Konzert VII
DESCRIPTION:Programm\nCarlos Grätzer\, Mouvements (1993)\npour flûte/piccolo\, clarinette en sib\, violon\, violoncelle et piano ÖEA \nJean-Baptiste Devillers\, Lieder auf der Flucht No°. II und IX\nfür Sopran\, Flöte\, Klarinette\, Violine\, Violoncello und Klavier (UA) \nDenis Bosse\, le chant de l’Inaudible (1996)\nfür Sopraan\, Flöte\, Klarinette\, Violine\, Violoncello und Klavier (UA) \nRobert HP Platz\, dense/Echo I (1996)\nfür Flöte\, Klarinette\, Violine\, Violoncello und Klavier \nFranco Donatoni\, L’ultima sera (1980)\nsera per voce femminile e cinque strumenti su testi di Fernando Pessoa \n  \nMitwirkende\nGerda Hartmann\, Sopran \nGilles Burgos\, Flöten \nJean-Louis Bergerard\, Klarinetten \nSona Khochafian\, Geige/Bratsche \nPierre Strauch\, Cello \nUrsula Kneihs\, Klavier
URL:https://aspekte-salzburg.com/konzert/konzert-vii-9/
LOCATION:Großes Studio\, Universität Mozarteum\, Mirabellplatz 1\, Salzburg\, 5020
END:VEVENT
END:VCALENDAR