BEGIN:VCALENDAR
VERSION:2.0
PRODID:-//aspekte SALZBURG - ECPv6.15.14//NONSGML v1.0//EN
CALSCALE:GREGORIAN
METHOD:PUBLISH
X-WR-CALNAME:aspekte SALZBURG
X-ORIGINAL-URL:https://aspekte-salzburg.com
X-WR-CALDESC:Veranstaltungen für aspekte SALZBURG
REFRESH-INTERVAL;VALUE=DURATION:PT1H
X-Robots-Tag:noindex
X-PUBLISHED-TTL:PT1H
BEGIN:VTIMEZONE
TZID:Europe/Paris
BEGIN:DAYLIGHT
TZOFFSETFROM:+0100
TZOFFSETTO:+0200
TZNAME:CEST
DTSTART:19880327T010000
END:DAYLIGHT
BEGIN:STANDARD
TZOFFSETFROM:+0200
TZOFFSETTO:+0100
TZNAME:CET
DTSTART:19880925T010000
END:STANDARD
BEGIN:DAYLIGHT
TZOFFSETFROM:+0100
TZOFFSETTO:+0200
TZNAME:CEST
DTSTART:19890326T010000
END:DAYLIGHT
BEGIN:STANDARD
TZOFFSETFROM:+0200
TZOFFSETTO:+0100
TZNAME:CET
DTSTART:19890924T010000
END:STANDARD
BEGIN:DAYLIGHT
TZOFFSETFROM:+0100
TZOFFSETTO:+0200
TZNAME:CEST
DTSTART:19900325T010000
END:DAYLIGHT
BEGIN:STANDARD
TZOFFSETFROM:+0200
TZOFFSETTO:+0100
TZNAME:CET
DTSTART:19900930T010000
END:STANDARD
END:VTIMEZONE
BEGIN:VEVENT
DTSTART;TZID=Europe/Paris:19890503T220000
DTEND;TZID=Europe/Paris:19890503T220000
DTSTAMP:20260421T104821
CREATED:20190813T102617Z
LAST-MODIFIED:20251120T161142Z
UID:2158-610236000-610236000@aspekte-salzburg.com
SUMMARY:Konzert VIII
DESCRIPTION:Programm\nDieter und Ulrich Kaufmann\, Himmel und Erde (1985)\nMusiktheater mit Gunter Schneider \nDieter und Ulrich Kaufmann\, Der Himmel hängt voller Gitarren (1985)\nWeltraumprojekt für einen Gitarristen mit Texten von URS Widmer\, Christian Morgenstern\, Gottfried Wilhelm Leibniz\, der Spiegel\, Dieter Kaufmann und Rainer Maria Rilke \nDieter Kaufmann\, Le Voyage au Paradis (1987)\nfünf Bilder nach Fragmenten von Robert Musil\nfür Sprecherin\, Klavier und Tonband \n  \nMitwirkende\nK&K Experimentalstudio\nGunda König\, Stimme\nDieter Kaufmann\, Klavier\nGunter Schneider\, Gitarre\nCaroline\, Austattung
URL:https://aspekte-salzburg.com/konzert/konzert-viii-15/
LOCATION:Künstlerhaus\, Hellbrunner Str. 3\, Salzburg\, 5020
END:VEVENT
END:VCALENDAR