BEGIN:VCALENDAR
VERSION:2.0
PRODID:-//aspekte SALZBURG - ECPv6.15.14//NONSGML v1.0//EN
CALSCALE:GREGORIAN
METHOD:PUBLISH
X-WR-CALNAME:aspekte SALZBURG
X-ORIGINAL-URL:https://aspekte-salzburg.com
X-WR-CALDESC:Veranstaltungen für aspekte SALZBURG
REFRESH-INTERVAL;VALUE=DURATION:PT1H
X-Robots-Tag:noindex
X-PUBLISHED-TTL:PT1H
BEGIN:VTIMEZONE
TZID:Europe/Paris
BEGIN:DAYLIGHT
TZOFFSETFROM:+0100
TZOFFSETTO:+0200
TZNAME:CEST
DTSTART:19980329T010000
END:DAYLIGHT
BEGIN:STANDARD
TZOFFSETFROM:+0200
TZOFFSETTO:+0100
TZNAME:CET
DTSTART:19981025T010000
END:STANDARD
BEGIN:DAYLIGHT
TZOFFSETFROM:+0100
TZOFFSETTO:+0200
TZNAME:CEST
DTSTART:19990328T010000
END:DAYLIGHT
BEGIN:STANDARD
TZOFFSETFROM:+0200
TZOFFSETTO:+0100
TZNAME:CET
DTSTART:19991031T010000
END:STANDARD
BEGIN:DAYLIGHT
TZOFFSETFROM:+0100
TZOFFSETTO:+0200
TZNAME:CEST
DTSTART:20000326T010000
END:DAYLIGHT
BEGIN:STANDARD
TZOFFSETFROM:+0200
TZOFFSETTO:+0100
TZNAME:CET
DTSTART:20001029T010000
END:STANDARD
END:VTIMEZONE
BEGIN:VEVENT
DTSTART;TZID=Europe/Paris:19990515T210000
DTEND;TZID=Europe/Paris:19990515T210000
DTSTAMP:20260421T121646
CREATED:20190730T083653Z
LAST-MODIFIED:20251120T160203Z
UID:1866-926802000-926802000@aspekte-salzburg.com
SUMMARY:Konzert VIII
DESCRIPTION:Programm\nMultimedia-Performance mit Tapes\, Percussion\, Schlagzeug\, Tanz\, Licht\, Video und Live-Elektronik \n  \nMitwirkende\nArabella Lorenz\, Percussion\, Schlagzeug\, Tanz \nDonna Jewell\, Tanz\, Percussion \nArteom Denissow\, Tontechnik\, Live-Elektronik \nAndreas Greiml\, Lichtregie \nAndré Ruschkowski\, Live-Elektronik\, Klang- und Videoregie
URL:https://aspekte-salzburg.com/konzert/konzert-viii-5/
LOCATION:Orchesterhaus\, Erzbischof-Gebhard-Straße 10\, Salzburg\, 5020
END:VEVENT
END:VCALENDAR