BEGIN:VCALENDAR
VERSION:2.0
PRODID:-//aspekte SALZBURG - ECPv6.15.14//NONSGML v1.0//EN
CALSCALE:GREGORIAN
METHOD:PUBLISH
X-WR-CALNAME:aspekte SALZBURG
X-ORIGINAL-URL:https://aspekte-salzburg.com
X-WR-CALDESC:Veranstaltungen für aspekte SALZBURG
REFRESH-INTERVAL;VALUE=DURATION:PT1H
X-Robots-Tag:noindex
X-PUBLISHED-TTL:PT1H
BEGIN:VTIMEZONE
TZID:Europe/Paris
BEGIN:DAYLIGHT
TZOFFSETFROM:+0100
TZOFFSETTO:+0200
TZNAME:CEST
DTSTART:19950326T010000
END:DAYLIGHT
BEGIN:STANDARD
TZOFFSETFROM:+0200
TZOFFSETTO:+0100
TZNAME:CET
DTSTART:19950924T010000
END:STANDARD
BEGIN:DAYLIGHT
TZOFFSETFROM:+0100
TZOFFSETTO:+0200
TZNAME:CEST
DTSTART:19960331T010000
END:DAYLIGHT
BEGIN:STANDARD
TZOFFSETFROM:+0200
TZOFFSETTO:+0100
TZNAME:CET
DTSTART:19961027T010000
END:STANDARD
BEGIN:DAYLIGHT
TZOFFSETFROM:+0100
TZOFFSETTO:+0200
TZNAME:CEST
DTSTART:19970330T010000
END:DAYLIGHT
BEGIN:STANDARD
TZOFFSETFROM:+0200
TZOFFSETTO:+0100
TZNAME:CET
DTSTART:19971026T010000
END:STANDARD
END:VTIMEZONE
BEGIN:VEVENT
DTSTART;TZID=Europe/Paris:19960513T200000
DTEND;TZID=Europe/Paris:19960513T200000
DTSTAMP:20260421T104655
CREATED:20190731T122145Z
LAST-MODIFIED:20251120T160434Z
UID:1939-832017600-832017600@aspekte-salzburg.com
SUMMARY:Konzert VIII
DESCRIPTION:Programm\nGerhard Wimberger\, Phantasie für acht Spieler (1982) \nIsang Yun\, Kontraste\nSolosonate \nMichael Mautner\, Sinfonietta à 8\nI. Allegro Molto\nII. Sostenuto\nIII. Andante Statico \n  \nMitwirkende\nMartin Walch\, Violine \nInge Hager\, Violine \nCharlotte Geselbracht\, Viola \nHoward Penny\, Violoncello \nMartin Horvath\, Kontrabass \nHaruhi Tanaka\, Klarinette \nAllen Smith\, Fagott \nPaul Trizsi\, Horn
URL:https://aspekte-salzburg.com/konzert/konzert-viii-8/
LOCATION:Großes Studio\, Universität Mozarteum\, Mirabellplatz 1\, Salzburg\, 5020
END:VEVENT
END:VCALENDAR