BEGIN:VCALENDAR
VERSION:2.0
PRODID:-//aspekte SALZBURG - ECPv6.15.14//NONSGML v1.0//EN
CALSCALE:GREGORIAN
METHOD:PUBLISH
X-WR-CALNAME:aspekte SALZBURG
X-ORIGINAL-URL:https://aspekte-salzburg.com
X-WR-CALDESC:Veranstaltungen für aspekte SALZBURG
REFRESH-INTERVAL;VALUE=DURATION:PT1H
X-Robots-Tag:noindex
X-PUBLISHED-TTL:PT1H
BEGIN:VTIMEZONE
TZID:Europe/Paris
BEGIN:DAYLIGHT
TZOFFSETFROM:+0100
TZOFFSETTO:+0200
TZNAME:CEST
DTSTART:20150329T010000
END:DAYLIGHT
BEGIN:STANDARD
TZOFFSETFROM:+0200
TZOFFSETTO:+0100
TZNAME:CET
DTSTART:20151025T010000
END:STANDARD
BEGIN:DAYLIGHT
TZOFFSETFROM:+0100
TZOFFSETTO:+0200
TZNAME:CEST
DTSTART:20160327T010000
END:DAYLIGHT
BEGIN:STANDARD
TZOFFSETFROM:+0200
TZOFFSETTO:+0100
TZNAME:CET
DTSTART:20161030T010000
END:STANDARD
BEGIN:DAYLIGHT
TZOFFSETFROM:+0100
TZOFFSETTO:+0200
TZNAME:CEST
DTSTART:20170326T010000
END:DAYLIGHT
BEGIN:STANDARD
TZOFFSETFROM:+0200
TZOFFSETTO:+0100
TZNAME:CET
DTSTART:20171029T010000
END:STANDARD
END:VTIMEZONE
BEGIN:VEVENT
DTSTART;TZID=Europe/Paris:20160604T213000
DTEND;TZID=Europe/Paris:20160604T223000
DTSTAMP:20260421T104910
CREATED:20160406T163229Z
LAST-MODIFIED:20251120T154425Z
UID:153-1465075800-1465079400@aspekte-salzburg.com
SUMMARY:Konzert VIII| Au Poisson Rouge - Harawi
DESCRIPTION:Programm\n  \nOliver Messiaen\, Harawi\, Chant d’amour et de mort für Gesang und Klavier (1945) \n  \n1. La ville qui dormait\, toi (Die Stadt\, die schläft\, ja) \n2. Boinjour toi\, colombe verte \n3. Montagnes (Berge) \n4. Doundou tchil (Peruanischer Tanz) \n5. L’amour de Piroutcha (Piroutchas Liebe) \n6. Répétition planétaire (Repetition der Sterne) \n7. Adieu \n8. Syllabes \n9. L’escalier redit\, gestes du soleil (Erzählung der Treppe und Gesten der Sonne) \n10. Amour oiseau d’étoile (Liebesvogel der Sterne) \n11. Katchikatchi les étoiles (Heuschrecken im Universum) \n12. Dans le noir (Im Dunkel) \n\n\n\n  \nMitwirkende\n\n\n\nAnna Maria Pammer\, Sopran \nAriane Haering\, Klavier \n\n\n  \nDie Musik der Anden und Wagners „Tristan und Isolde“ standen Pate für diesen grandiosen Liederzyklus. Es sind Lieder der Liebe\, leidenschaftlich gleißend\, altgolden schön\, wehmütig versonnen\, die Olivier Messiaen\, einer der größten Musiker der Moderne\, unwiderstehlich gestaltet hat. \n\nAnna Maria Pammer\nAriane Haering\n\n\n\n  \n 
URL:https://aspekte-salzburg.com/konzert/konzert-viii-au-poisson-rouge-harawi/
LOCATION:Kavernen 1595\, Gstättengasse 27–29\, Salzburg\, 5020\, Österreich
CATEGORIES:Aspekte 2016
END:VEVENT
END:VCALENDAR