BEGIN:VCALENDAR
VERSION:2.0
PRODID:-//aspekte SALZBURG - ECPv6.15.14//NONSGML v1.0//EN
CALSCALE:GREGORIAN
METHOD:PUBLISH
X-WR-CALNAME:aspekte SALZBURG
X-ORIGINAL-URL:https://aspekte-salzburg.com
X-WR-CALDESC:Veranstaltungen für aspekte SALZBURG
REFRESH-INTERVAL;VALUE=DURATION:PT1H
X-Robots-Tag:noindex
X-PUBLISHED-TTL:PT1H
BEGIN:VTIMEZONE
TZID:Europe/Paris
BEGIN:DAYLIGHT
TZOFFSETFROM:+0100
TZOFFSETTO:+0200
TZNAME:CEST
DTSTART:19880327T010000
END:DAYLIGHT
BEGIN:STANDARD
TZOFFSETFROM:+0200
TZOFFSETTO:+0100
TZNAME:CET
DTSTART:19880925T010000
END:STANDARD
BEGIN:DAYLIGHT
TZOFFSETFROM:+0100
TZOFFSETTO:+0200
TZNAME:CEST
DTSTART:19890326T010000
END:DAYLIGHT
BEGIN:STANDARD
TZOFFSETFROM:+0200
TZOFFSETTO:+0100
TZNAME:CET
DTSTART:19890924T010000
END:STANDARD
BEGIN:DAYLIGHT
TZOFFSETFROM:+0100
TZOFFSETTO:+0200
TZNAME:CEST
DTSTART:19900325T010000
END:DAYLIGHT
BEGIN:STANDARD
TZOFFSETFROM:+0200
TZOFFSETTO:+0100
TZNAME:CET
DTSTART:19900930T010000
END:STANDARD
END:VTIMEZONE
BEGIN:VEVENT
DTSTART;TZID=Europe/Paris:19890505T200000
DTEND;TZID=Europe/Paris:19890505T200000
DTSTAMP:20260421T121712
CREATED:20190813T122404Z
LAST-MODIFIED:20251120T161137Z
UID:2162-610401600-610401600@aspekte-salzburg.com
SUMMARY:Konzert X
DESCRIPTION:Programm\nAlberto Caprioli\, Serenata per Francesca (1985)\nper sei esecutori \nBruno Maderna\, Dialodia (1974)\nper due flauti od oboi o altri strumenti \nAlberto Caprioli\, Symphoniae I e II (1988)\nper violino solo \nMichele Biasutti\, Trasparenze (1988)\nper flauto in sol\, nastro magnetico e live electronics \nSalvatore Sciarrino\, Canzona du Ringraziamento (1985)\nper flauto solo \nAlberto Caprioli\, Intermedio primo (1988)\nper flauto amplificato e processore 4i \nSylvano Bussotti\, Solo (1966)\, Fassung von Alberto Caprioli\, (1989)\ndem oenm gewidmet \nAlberto Caprioli\,\, …il vostro pianto aurora o luna (1988)\nframmento per L’Intermedio quarto di Aminta\nper cinque esecutori \n  \nMitwirkende\noenm. österreichisches ensemble für neue musik\nHerbert Grassl\, Leitung\nanselm Oberhumer\, Flöte\nstanislaw Winiarczyk\, Oboe\nEmil Rieder\, Klarinette\nJohann Gerl\, Horn\nGunter Schneider\, Gitarre\nMarin Marinow\, Schlagzeug\nRobert Crow\, Violine\nWolfgang Niessner\, Klavier \nMichele Biasutti\, Flöte \nRichardo Barbieri\, Live-Elektronik
URL:https://aspekte-salzburg.com/konzert/konzert-x-11/
LOCATION:Künstlerhaus\, Hellbrunner Str. 3\, Salzburg\, 5020
END:VEVENT
END:VCALENDAR