BEGIN:VCALENDAR
VERSION:2.0
PRODID:-//aspekte SALZBURG - ECPv6.15.14//NONSGML v1.0//EN
CALSCALE:GREGORIAN
METHOD:PUBLISH
X-WR-CALNAME:aspekte SALZBURG
X-ORIGINAL-URL:https://aspekte-salzburg.com
X-WR-CALDESC:Veranstaltungen für aspekte SALZBURG
REFRESH-INTERVAL;VALUE=DURATION:PT1H
X-Robots-Tag:noindex
X-PUBLISHED-TTL:PT1H
BEGIN:VTIMEZONE
TZID:Europe/Paris
BEGIN:DAYLIGHT
TZOFFSETFROM:+0100
TZOFFSETTO:+0200
TZNAME:CEST
DTSTART:19870329T010000
END:DAYLIGHT
BEGIN:STANDARD
TZOFFSETFROM:+0200
TZOFFSETTO:+0100
TZNAME:CET
DTSTART:19870927T010000
END:STANDARD
BEGIN:DAYLIGHT
TZOFFSETFROM:+0100
TZOFFSETTO:+0200
TZNAME:CEST
DTSTART:19880327T010000
END:DAYLIGHT
BEGIN:STANDARD
TZOFFSETFROM:+0200
TZOFFSETTO:+0100
TZNAME:CET
DTSTART:19880925T010000
END:STANDARD
BEGIN:DAYLIGHT
TZOFFSETFROM:+0100
TZOFFSETTO:+0200
TZNAME:CEST
DTSTART:19890326T010000
END:DAYLIGHT
BEGIN:STANDARD
TZOFFSETFROM:+0200
TZOFFSETTO:+0100
TZNAME:CET
DTSTART:19890924T010000
END:STANDARD
END:VTIMEZONE
BEGIN:VEVENT
DTSTART;TZID=Europe/Paris:19880513T210000
DTEND;TZID=Europe/Paris:19880513T210000
DTSTAMP:20260421T104611
CREATED:20190814T123949Z
LAST-MODIFIED:20251120T161240Z
UID:2190-579560400-579560400@aspekte-salzburg.com
SUMMARY:Konzert X
DESCRIPTION:Programm\nHartmut Schmidt\, Walzer für Trude\nfür Klavier\, Viola\, Violine\, Violoncello \nKlaus Ager\, Hommage à Carmen \nJohannes Kotschy\, Zwoa boarische Gstanzl\nfür Posaune\, Violine\, Viola\, Violoncello\, Pf\nPizzipezzi\nfür Streichtrio \nAndreas Aigmüller\, Ballade\nfür Harfe und Bongos ad libitum \nHerbert Grassl\, Lederdeppen Ländler\nTanzstücke für 4 Kontrabässe aus der Musik zu „Mein Kampf” von George Tabori \n  \nMitwirkende\noenm. österreichisches ensemble für neue musik \nHerbert Grassl\, Leitung
URL:https://aspekte-salzburg.com/konzert/konzert-x-12/
LOCATION:Großes Studio\, Universität Mozarteum\, Mirabellplatz 1\, Salzburg\, 5020
END:VEVENT
END:VCALENDAR