BEGIN:VCALENDAR
VERSION:2.0
PRODID:-//aspekte SALZBURG - ECPv6.15.14//NONSGML v1.0//EN
CALSCALE:GREGORIAN
METHOD:PUBLISH
X-WR-CALNAME:aspekte SALZBURG
X-ORIGINAL-URL:https://aspekte-salzburg.com
X-WR-CALDESC:Veranstaltungen für aspekte SALZBURG
REFRESH-INTERVAL;VALUE=DURATION:PT1H
X-Robots-Tag:noindex
X-PUBLISHED-TTL:PT1H
BEGIN:VTIMEZONE
TZID:Europe/Paris
BEGIN:DAYLIGHT
TZOFFSETFROM:+0100
TZOFFSETTO:+0200
TZNAME:CEST
DTSTART:19940327T010000
END:DAYLIGHT
BEGIN:STANDARD
TZOFFSETFROM:+0200
TZOFFSETTO:+0100
TZNAME:CET
DTSTART:19940925T010000
END:STANDARD
BEGIN:DAYLIGHT
TZOFFSETFROM:+0100
TZOFFSETTO:+0200
TZNAME:CEST
DTSTART:19950326T010000
END:DAYLIGHT
BEGIN:STANDARD
TZOFFSETFROM:+0200
TZOFFSETTO:+0100
TZNAME:CET
DTSTART:19950924T010000
END:STANDARD
BEGIN:DAYLIGHT
TZOFFSETFROM:+0100
TZOFFSETTO:+0200
TZNAME:CEST
DTSTART:19960331T010000
END:DAYLIGHT
BEGIN:STANDARD
TZOFFSETFROM:+0200
TZOFFSETTO:+0100
TZNAME:CET
DTSTART:19961027T010000
END:STANDARD
END:VTIMEZONE
BEGIN:VEVENT
DTSTART;TZID=Europe/Paris:19950526T200000
DTEND;TZID=Europe/Paris:19950526T200000
DTSTAMP:20260421T115853
CREATED:20190805T075607Z
LAST-MODIFIED:20251120T160502Z
UID:1983-801518400-801518400@aspekte-salzburg.com
SUMMARY:Konzert X
DESCRIPTION:Programm\nLawrence Justinian K.S. Tamasusza\, String Quartet\nin vier Sätzen (1988-1993) \nHamza El Din\, Grandfather’s Stories (1965) \nKevin Volans\, Hunting: Gathering (1987)\nSätze: \n1. Expedition\n2. Expedition\n3. Expedition \n  \nMitwirkende\nStreichquartett des Ensemble Aventure\, Freiburg\nHorst Hildebrandt\, Violine\nHans Leptin\, Violine\nMartin Höfler\, Viola\nThomas Lukovich\, Violoncello
URL:https://aspekte-salzburg.com/konzert/konzert-x-6/
LOCATION:Großes Studio\, Universität Mozarteum\, Mirabellplatz 1\, Salzburg\, 5020
END:VEVENT
END:VCALENDAR